Back to Build/check report for BioC 3.13 experimental data
ABCDEFG[H]IJKLMNOPQRSTUVWXYZ

This page was generated on 2021-07-24 15:59:56 -0400 (Sat, 24 Jul 2021).

All results for package HelloRangesData

To the developers/maintainers of the HelloRangesData package:
Make sure to use the following settings in order to reproduce any error or warning you see on this page.

raw results

Package 173/406HostnameOS / ArchINSTALLBUILDCHECK
HelloRangesData 1.18.0  (landing page)
Michael Lawrence
Snapshot Date: 2021-07-24 09:30:05 -0400 (Sat, 24 Jul 2021)
URL: https://git.bioconductor.org/packages/HelloRangesData
Branch: RELEASE_3_13
Last Commit: 3657376
Last Changed Date: 2021-05-19 11:59:59 -0400 (Wed, 19 May 2021)
malbec2Linux (Ubuntu 20.04.2 LTS) / x86_64  OK    OK    OK  UNNEEDED, same version is already published