Index of /checkResults/release/data-experiment-LATEST/HMP16SData/raw-results

[ICO]NameLast modifiedSizeDescription

[DIR]Parent Directory  -  
[   ]info.dcf17-Jul-2024 03:51 283  
[DIR]nebbiolo1/17-Jul-2024 03:51 -