Back to Build/check report for BioC 3.13 experimental data
ABCDE[F]GHIJKLMNOPQRSTUVWXYZ

This page was generated on 2021-06-19 15:59:19 -0400 (Sat, 19 Jun 2021).

All results for package Fletcher2013b

To the developers/maintainers of the Fletcher2013b package:
Make sure to use the following settings in order to reproduce any error or warning you see on this page.

raw results

Package 129/406HostnameOS / ArchINSTALLBUILDCHECK
Fletcher2013b 1.28.0  (landing page)
Mauro Castro
Snapshot Date: 2021-06-19 09:30:06 -0400 (Sat, 19 Jun 2021)
URL: https://git.bioconductor.org/packages/Fletcher2013b
Branch: RELEASE_3_13
Last Commit: 4adc123
Last Changed Date: 2021-05-19 11:43:16 -0400 (Wed, 19 May 2021)
malbec2Linux (Ubuntu 20.04.2 LTS) / x86_64  OK    OK    OK  UNNEEDED, same version is already published