Back to Build/check report for BioC 3.13 experimental data
ABCD[E]FGHIJKLMNOPQRSTUVWXYZ

This page was generated on 2021-08-03 15:59:52 -0400 (Tue, 03 Aug 2021).

All results for package ELMER.data

To the developers/maintainers of the ELMER.data package:
Make sure to use the following settings in order to reproduce any error or warning you see on this page.

raw results

Package 114/406HostnameOS / ArchINSTALLBUILDCHECK
ELMER.data 2.16.0  (landing page)
Tiago Chedraoui Silva
Snapshot Date: 2021-08-03 09:30:07 -0400 (Tue, 03 Aug 2021)
URL: https://git.bioconductor.org/packages/ELMER.data
Branch: RELEASE_3_13
Last Commit: 906c201
Last Changed Date: 2021-05-19 11:51:48 -0400 (Wed, 19 May 2021)
malbec2Linux (Ubuntu 20.04.2 LTS) / x86_64  OK    OK    OK  UNNEEDED, same version is already published