Back to Build/check report for BioC 3.13 experimental data
[A]BCDEFGHIJKLMNOPQRSTUVWXYZ

All results for package ALL

This page was generated on 2021-06-15 16:02:24 -0400 (Tue, 15 Jun 2021).

Package 11/406HostnameOS / ArchINSTALLBUILDCHECK
ALL 1.34.0  (landing page)
Robert Gentleman
Snapshot Date: 2021-06-15 09:30:09 -0400 (Tue, 15 Jun 2021)
URL: https://git.bioconductor.org/packages/ALL
Branch: RELEASE_3_13
Last Commit: 115420b
Last Changed Date: 2021-05-19 11:23:08 -0400 (Wed, 19 May 2021)
malbec2Linux (Ubuntu 20.04.2 LTS) / x86_64  OK    OK    OK  UNNEEDED, same version is already published