Back to Mac ARM64 build report for BioC 3.19
[A]BCDEFGHIJKLMNOPQRSTUVWXYZ

This page was generated on 2024-05-07 11:32:29 -0400 (Tue, 07 May 2024).

HostnameOSArch (*)R versionInstalled pkgs
kjohnson3macOS 13.6.5 Venturaarm644.4.0 (2024-04-24) -- "Puppy Cup" 4461
Click on any hostname to see more info about the system (e.g. compilers)      (*) as reported by 'uname -p', except on Windows and Mac OS X

Package 14/2300HostnameOS / ArchINSTALLBUILDCHECKBUILD BIN
ADaCGH2 2.44.0  (landing page)
Ramon Diaz-Uriarte
Snapshot Date: 2024-05-06 14:00:02 -0400 (Mon, 06 May 2024)
git_url: https://git.bioconductor.org/packages/ADaCGH2
git_branch: RELEASE_3_19
git_last_commit: 8e4a752
git_last_commit_date: 2024-04-30 10:23:01 -0400 (Tue, 30 Apr 2024)
kjohnson3macOS 13.6.5 Ventura / arm64  OK    OK    OK    OK  UNNEEDED, same version is already published

BUILD BIN results for ADaCGH2 on kjohnson3


To the developers/maintainers of the ADaCGH2 package:
- Use the following Renviron settings to reproduce errors and warnings.
- If 'R CMD check' started to fail recently on the Linux builder(s) over a missing dependency, add the missing dependency to 'Suggests:' in your DESCRIPTION file. See Renviron.bioc for more information.

raw results


Summary

Package: ADaCGH2
Version: 2.44.0
Command: rm -rf ADaCGH2.buildbin-libdir && mkdir ADaCGH2.buildbin-libdir && /Users/biocbuild/BBS/utils/build-universal.sh ADaCGH2_2.44.0.tar.gz /Library/Frameworks/R.framework/Resources/bin/R ADaCGH2.buildbin-libdir
StartedAt: 2024-05-07 02:21:11 -0400 (Tue, 07 May 2024)
EndedAt: 2024-05-07 02:21:21 -0400 (Tue, 07 May 2024)
EllapsedTime: 10.2 seconds
RetCode: 0
Status:   OK  
PackageFile: ADaCGH2_2.44.0.tgz
PackageFileSize: 1.29 MiB

Command output

##############################################################################
##############################################################################
###
### Running command:
###
###   rm -rf ADaCGH2.buildbin-libdir && mkdir ADaCGH2.buildbin-libdir && /Users/biocbuild/BBS/utils/build-universal.sh ADaCGH2_2.44.0.tar.gz /Library/Frameworks/R.framework/Resources/bin/R ADaCGH2.buildbin-libdir
###
##############################################################################
##############################################################################


>>>>>>> 
>>>>>>> INSTALLATION WITH 'R CMD INSTALL --preclean --no-multiarch --library=ADaCGH2.buildbin-libdir ADaCGH2_2.44.0.tar.gz'
>>>>>>> 

* installing *source* package ‘ADaCGH2’ ...
** using staged installation
** libs
using C compiler: ‘Apple clang version 15.0.0 (clang-1500.1.0.2.5)’
using SDK: ‘MacOSX11.3.sdk’
clang -arch arm64 -I"/Library/Frameworks/R.framework/Resources/include" -DNDEBUG   -I/opt/R/arm64/include    -fPIC  -falign-functions=64 -Wall -g -O2  -c init.c -o init.o
clang -arch arm64 -I"/Library/Frameworks/R.framework/Resources/include" -DNDEBUG   -I/opt/R/arm64/include    -fPIC  -falign-functions=64 -Wall -g -O2  -c r_haarseg.c -o r_haarseg.o
r_haarseg.c:61:12: warning: variable 'lowSquareSum' set but not used [-Wunused-but-set-variable]
    double lowSquareSum;
           ^
r_haarseg.c:65:12: warning: unused variable 'totalNorm' [-Wunused-variable]
    double totalNorm;
           ^
r_haarseg.c:152:8: warning: '/*' within block comment [-Wcomment]
                                         }/* for j */
                                          ^
r_haarseg.c:176:8: warning: '/*' within block comment [-Wcomment]
                                         }/* for j */
                                          ^
r_haarseg.c:128:9: warning: unused variable 'j' [-Wunused-variable]
         int k,j;
               ^
5 warnings generated.
clang -arch arm64 -dynamiclib -Wl,-headerpad_max_install_names -undefined dynamic_lookup -L/Library/Frameworks/R.framework/Resources/lib -L/opt/R/arm64/lib -o ADaCGH2.so init.o r_haarseg.o -F/Library/Frameworks/R.framework/.. -framework R -Wl,-framework -Wl,CoreFoundation
installing to /Users/biocbuild/bbs-3.19-bioc-mac-arm64/meat/ADaCGH2.buildbin-libdir/00LOCK-ADaCGH2/00new/ADaCGH2/libs
** R
** data
** inst
** byte-compile and prepare package for lazy loading
** help
*** installing help indices
** building package indices
** installing vignettes
** testing if installed package can be loaded from temporary location
** checking absolute paths in shared objects and dynamic libraries
** testing if installed package can be loaded from final location
** testing if installed package keeps a record of temporary installation path
* DONE (ADaCGH2)


>>>>>>> 
>>>>>>> FIXING PATHS TO DYNAMIC LIBRARIES FOR ADaCGH2.buildbin-libdir/ADaCGH2/libs/ADaCGH2.so
>>>>>>> 

>>>>>>> Paths before fix:
ADaCGH2.buildbin-libdir/ADaCGH2/libs/ADaCGH2.so:
	ADaCGH2.so (compatibility version 0.0.0, current version 0.0.0)
	/Library/Frameworks/R.framework/Versions/4.4-arm64/Resources/lib/libR.dylib (compatibility version 4.4.0, current version 4.4.0)
	/System/Library/Frameworks/CoreFoundation.framework/Versions/A/CoreFoundation (compatibility version 150.0.0, current version 1775.118.101)
	/usr/lib/libSystem.B.dylib (compatibility version 1.0.0, current version 1292.100.5)

>>>>>>> Fix with install_name_tool:
install_name_tool -change "/usr/local/lib/libgcc_s.1.1.dylib" "/Library/Frameworks/R.framework/Versions/4.4-arm64/Resources/lib/libgcc_s.1.1.dylib" "ADaCGH2.buildbin-libdir/ADaCGH2/libs/ADaCGH2.so"
install_name_tool -change "/usr/local/lib/libgfortran.5.dylib" "/Library/Frameworks/R.framework/Versions/4.4-arm64/Resources/lib/libgfortran.5.dylib" "ADaCGH2.buildbin-libdir/ADaCGH2/libs/ADaCGH2.so"
install_name_tool -change "/usr/local/lib/libquadmath.0.dylib" "/Library/Frameworks/R.framework/Versions/4.4-arm64/Resources/lib/libquadmath.0.dylib" "ADaCGH2.buildbin-libdir/ADaCGH2/libs/ADaCGH2.so"

>>>>>>> Paths after fix:
ADaCGH2.buildbin-libdir/ADaCGH2/libs/ADaCGH2.so:
	ADaCGH2.so (compatibility version 0.0.0, current version 0.0.0)
	/Library/Frameworks/R.framework/Versions/4.4-arm64/Resources/lib/libR.dylib (compatibility version 4.4.0, current version 4.4.0)
	/System/Library/Frameworks/CoreFoundation.framework/Versions/A/CoreFoundation (compatibility version 150.0.0, current version 1775.118.101)
	/usr/lib/libSystem.B.dylib (compatibility version 1.0.0, current version 1292.100.5)