Back to Multiple platform build/check report for BioC 3.12
ABCDEFGHIJKLMNOPQRSTUVWXY[Z]

Multiple platform build/check report for BioC 3.12

All results for package zlibbioc

This page was generated on 2021-05-05 12:09:24 -0400 (Wed, 05 May 2021).

Package 1974/1974HostnameOS / ArchINSTALLBUILDCHECKBUILD BIN
zlibbioc 1.36.0  (landing page)
Bioconductor Package Maintainer
Snapshot Date: 2021-05-04 14:50:13 -0400 (Tue, 04 May 2021)
URL: https://git.bioconductor.org/packages/zlibbioc
Branch: RELEASE_3_12
Last Commit: 62e888c
Last Changed Date: 2020-10-27 10:41:41 -0400 (Tue, 27 Oct 2020)
malbec1Linux (Ubuntu 18.04.5 LTS) / x86_64  OK    OK    OK  UNNEEDED, same version exists in internal repository
tokay1Windows Server 2012 R2 Standard / x64  OK    OK    OK    OK  UNNEEDED, same version exists in internal repository
merida1macOS 10.14.6 Mojave / x86_64  OK    OK    OK    OK  UNNEEDED, same version exists in internal repository

Results for Bioconductor software packages that depend directly on package zlibbioc

QUICK STATSOS / ArchINSTALLBUILDCHECKBUILD BIN
malbec1Linux (Ubuntu 18.04.5 LTS) / x86_64
0029
0029
011117
tokay1Windows Server 2012 R2 Standard / x64
0029
0029
021512
0029
merida1macOS 10.14.6 Mojave / x86_64
0029
0029
02819
0029
Package 1/29HostnameOS / ArchINSTALLBUILDCHECKBUILD BIN
affy 1.68.0  (landing page)
Rafael A. Irizarry
Last Commit: 1664399
Last Changed Date: 2020-10-27 10:22:11 -0400
malbec1Linux (Ubuntu 18.04.5 LTS) / x86_64  OK    OK    WARNINGS  UNNEEDED, same version exists in internal repository
tokay1Windows Server 2012 R2 Standard / x64  OK    OK    WARNINGS    OK  UNNEEDED, same version exists in internal repository
merida1macOS 10.14.6 Mojave / x86_64  OK    OK    WARNINGS    OK  UNNEEDED, same version exists in internal repository
Package 2/29HostnameOS / ArchINSTALLBUILDCHECKBUILD BIN
affyio 1.60.0  (landing page)
Ben Bolstad
Last Commit: ee20528
Last Changed Date: 2020-10-27 10:22:04 -0400
malbec1Linux (Ubuntu 18.04.5 LTS) / x86_64  OK    OK    OK  UNNEEDED, same version exists in internal repository
tokay1Windows Server 2012 R2 Standard / x64  OK    OK    WARNINGS    OK  UNNEEDED, same version exists in internal repository
merida1macOS 10.14.6 Mojave / x86_64  OK    OK    OK    OK  UNNEEDED, same version exists in internal repository
Package 3/29HostnameOS / ArchINSTALLBUILDCHECKBUILD BIN
affyPLM 1.66.0  (landing page)
Ben Bolstad
Last Commit: f0780c3
Last Changed Date: 2020-10-27 10:22:56 -0400
malbec1Linux (Ubuntu 18.04.5 LTS) / x86_64  OK    OK    OK  UNNEEDED, same version exists in internal repository
tokay1Windows Server 2012 R2 Standard / x64  OK    OK    OK    OK  UNNEEDED, same version exists in internal repository
merida1macOS 10.14.6 Mojave / x86_64  OK    OK    OK    OK  UNNEEDED, same version exists in internal repository
Package 4/29HostnameOS / ArchINSTALLBUILDCHECKBUILD BIN
bamsignals 1.22.0  (landing page)
Johannes Helmuth
Last Commit: 5f53396
Last Changed Date: 2020-10-27 11:03:28 -0400
malbec1Linux (Ubuntu 18.04.5 LTS) / x86_64  OK    OK    OK  UNNEEDED, same version exists in internal repository
tokay1Windows Server 2012 R2 Standard / x64  OK    OK    OK    OK  UNNEEDED, same version exists in internal repository
merida1macOS 10.14.6 Mojave / x86_64  OK    OK    OK    OK  UNNEEDED, same version exists in internal repository
Package 5/29HostnameOS / ArchINSTALLBUILDCHECKBUILD BIN
ChemmineOB 1.28.4  (landing page)
Thomas Girke
Last Commit: 4b26dd5
Last Changed Date: 2021-04-12 12:29:47 -0400
malbec1Linux (Ubuntu 18.04.5 LTS) / x86_64  OK    OK    WARNINGS  UNNEEDED, same version exists in internal repository
tokay1Windows Server 2012 R2 Standard / x64  OK    OK    WARNINGS    OK  UNNEEDED, same version exists in internal repository
merida1macOS 10.14.6 Mojave / x86_64  OK    OK    WARNINGS    OK  UNNEEDED, same version exists in internal repository
Package 6/29HostnameOS / ArchINSTALLBUILDCHECKBUILD BIN
csaw 1.24.3  (landing page)
Aaron Lun
Last Commit: 9bad47b
Last Changed Date: 2020-11-09 23:33:24 -0400
malbec1Linux (Ubuntu 18.04.5 LTS) / x86_64  OK    OK    OK  UNNEEDED, same version exists in internal repository
tokay1Windows Server 2012 R2 Standard / x64  OK    OK    OK    OK  UNNEEDED, same version exists in internal repository
merida1macOS 10.14.6 Mojave / x86_64  OK    OK    OK    OK  UNNEEDED, same version exists in internal repository
Package 7/29HostnameOS / ArchINSTALLBUILDCHECKBUILD BIN
diffHic 1.22.0  (landing page)
Aaron Lun
Last Commit: db4e4f8
Last Changed Date: 2020-10-27 11:05:00 -0400
malbec1Linux (Ubuntu 18.04.5 LTS) / x86_64  OK    OK    OK  UNNEEDED, same version exists in internal repository
tokay1Windows Server 2012 R2 Standard / x64  OK    OK    WARNINGS    OK  UNNEEDED, same version exists in internal repository
merida1macOS 10.14.6 Mojave / x86_64  OK    OK    OK    OK  UNNEEDED, same version exists in internal repository
Package 8/29HostnameOS / ArchINSTALLBUILDCHECKBUILD BIN
MADSEQ 1.16.0  (landing page)
Yu Kong
Last Commit: 970e1fe
Last Changed Date: 2020-10-27 11:15:16 -0400
malbec1Linux (Ubuntu 18.04.5 LTS) / x86_64  OK    OK    OK  UNNEEDED, same version exists in internal repository
tokay1Windows Server 2012 R2 Standard / x64  OK    OK    OK    OK  UNNEEDED, same version exists in internal repository
merida1macOS 10.14.6 Mojave / x86_64  OK    OK    OK    OK  UNNEEDED, same version exists in internal repository
Package 9/29HostnameOS / ArchINSTALLBUILDCHECKBUILD BIN
makecdfenv 1.66.0  (landing page)
James W. MacDonald
Last Commit: 02aa975
Last Changed Date: 2020-10-27 10:22:21 -0400
malbec1Linux (Ubuntu 18.04.5 LTS) / x86_64  OK    OK    WARNINGS  UNNEEDED, same version exists in internal repository
tokay1Windows Server 2012 R2 Standard / x64  OK    OK    OK    OK  UNNEEDED, same version exists in internal repository
merida1macOS 10.14.6 Mojave / x86_64  OK    OK    OK    OK  UNNEEDED, same version exists in internal repository
Package 10/29HostnameOS / ArchINSTALLBUILDCHECKBUILD BIN
methylKit 1.16.1  (landing page)
Altuna Akalin , Alexander Gosdschan
Last Commit: a48c559
Last Changed Date: 2021-01-28 09:43:19 -0400
malbec1Linux (Ubuntu 18.04.5 LTS) / x86_64  OK    OK    OK  UNNEEDED, same version exists in internal repository
tokay1Windows Server 2012 R2 Standard / x64  OK    OK    OK    OK  UNNEEDED, same version exists in internal repository
merida1macOS 10.14.6 Mojave / x86_64  OK    OK    OK    OK  UNNEEDED, same version exists in internal repository
Package 11/29HostnameOS / ArchINSTALLBUILDCHECKBUILD BIN
mzR 2.24.1  (landing page)
Steffen Neumann
Last Commit: e1d4de8
Last Changed Date: 2020-11-18 08:39:00 -0400
malbec1Linux (Ubuntu 18.04.5 LTS) / x86_64  OK    OK    WARNINGS  UNNEEDED, same version exists in internal repository
tokay1Windows Server 2012 R2 Standard / x64  OK    OK    WARNINGS    OK  UNNEEDED, same version exists in internal repository
merida1macOS 10.14.6 Mojave / x86_64  OK    OK    ERROR    OK  
Package 12/29HostnameOS / ArchINSTALLBUILDCHECKBUILD BIN
NanoMethViz 1.0.0  (landing page)
Shian Su
Last Commit: 60b2e12
Last Changed Date: 2020-10-27 12:03:39 -0400
malbec1Linux (Ubuntu 18.04.5 LTS) / x86_64  OK    OK    OK  UNNEEDED, same version exists in internal repository
tokay1Windows Server 2012 R2 Standard / x64  OK    OK    OK    OK  UNNEEDED, same version exists in internal repository
merida1macOS 10.14.6 Mojave / x86_64  OK    OK    OK    OK  UNNEEDED, same version exists in internal repository
Package 13/29HostnameOS / ArchINSTALLBUILDCHECKBUILD BIN
ncdfFlow 2.36.0  (landing page)
Mike Jiang , Jake Wagner
Last Commit: 786f1c0
Last Changed Date: 2020-10-27 10:43:51 -0400
malbec1Linux (Ubuntu 18.04.5 LTS) / x86_64  OK    OK    WARNINGS  UNNEEDED, same version exists in internal repository
tokay1Windows Server 2012 R2 Standard / x64  OK    OK    WARNINGS    OK  UNNEEDED, same version exists in internal repository
merida1macOS 10.14.6 Mojave / x86_64  OK    OK    WARNINGS    OK  UNNEEDED, same version exists in internal repository
Package 14/29HostnameOS / ArchINSTALLBUILDCHECKBUILD BIN
NoRCE 1.2.0  (landing page)
Gulden Olgun
Last Commit: 0ff701b
Last Changed Date: 2020-10-27 11:54:30 -0400
malbec1Linux (Ubuntu 18.04.5 LTS) / x86_64  OK    OK    OK  UNNEEDED, same version exists in internal repository
tokay1Windows Server 2012 R2 Standard / x64  OK    OK    OK    OK  UNNEEDED, same version exists in internal repository
merida1macOS 10.14.6 Mojave / x86_64  OK    OK    OK    OK  UNNEEDED, same version exists in internal repository
Package 15/29HostnameOS / ArchINSTALLBUILDCHECKBUILD BIN
oligo 1.54.1  (landing page)
Benilton Carvalho
Last Commit: 4988b63
Last Changed Date: 2020-11-03 14:46:19 -0400
malbec1Linux (Ubuntu 18.04.5 LTS) / x86_64  OK    OK    WARNINGS  UNNEEDED, same version exists in internal repository
tokay1Windows Server 2012 R2 Standard / x64  OK    OK    WARNINGS    OK  UNNEEDED, same version exists in internal repository
merida1macOS 10.14.6 Mojave / x86_64  OK    OK    WARNINGS    OK  UNNEEDED, same version exists in internal repository
Package 16/29HostnameOS / ArchINSTALLBUILDCHECKBUILD BIN
polyester 1.26.0  (landing page)
Jack Fu , Jeff Leek
Last Commit: a241ea8
Last Changed Date: 2020-10-27 10:59:22 -0400
malbec1Linux (Ubuntu 18.04.5 LTS) / x86_64  OK    OK    OK  UNNEEDED, same version exists in internal repository
tokay1Windows Server 2012 R2 Standard / x64  OK    OK    OK    OK  UNNEEDED, same version exists in internal repository
merida1macOS 10.14.6 Mojave / x86_64  OK    OK    OK    OK  UNNEEDED, same version exists in internal repository
Package 17/29HostnameOS / ArchINSTALLBUILDCHECKBUILD BIN
qckitfastq 1.6.0  (landing page)
August Guang
Last Commit: 38d9c8e
Last Changed Date: 2020-10-27 11:43:39 -0400
malbec1Linux (Ubuntu 18.04.5 LTS) / x86_64  OK    OK    OK  UNNEEDED, same version exists in internal repository
tokay1Windows Server 2012 R2 Standard / x64  OK    OK    OK    OK  UNNEEDED, same version exists in internal repository
merida1macOS 10.14.6 Mojave / x86_64  OK    OK    OK    OK  UNNEEDED, same version exists in internal repository
Package 18/29HostnameOS / ArchINSTALLBUILDCHECKBUILD BIN
Rfastp 1.0.0  (landing page)
Thomas Carroll
Last Commit: e6fb642
Last Changed Date: 2020-10-27 12:00:11 -0400
malbec1Linux (Ubuntu 18.04.5 LTS) / x86_64  OK    OK    OK  UNNEEDED, same version exists in internal repository
tokay1Windows Server 2012 R2 Standard / x64  OK    OK    OK    OK  UNNEEDED, same version exists in internal repository
merida1macOS 10.14.6 Mojave / x86_64  OK    OK    OK    OK  UNNEEDED, same version exists in internal repository
Package 19/29HostnameOS / ArchINSTALLBUILDCHECKBUILD BIN
Rhtslib 1.22.0  (landing page)
Bioconductor Package Maintainer
Last Commit: 899b79f
Last Changed Date: 2020-10-27 11:02:51 -0400
malbec1Linux (Ubuntu 18.04.5 LTS) / x86_64  OK    OK    OK  UNNEEDED, same version exists in internal repository
tokay1Windows Server 2012 R2 Standard / x64  OK    OK    WARNINGS    OK  UNNEEDED, same version exists in internal repository
merida1macOS 10.14.6 Mojave / x86_64  OK    OK    OK    OK  UNNEEDED, same version exists in internal repository
Package 20/29HostnameOS / ArchINSTALLBUILDCHECKBUILD BIN
Rsamtools 2.6.0  (landing page)
Bioconductor Package Maintainer
Last Commit: f2aea06
Last Changed Date: 2020-10-27 10:37:52 -0400
malbec1Linux (Ubuntu 18.04.5 LTS) / x86_64  OK    OK    WARNINGS  UNNEEDED, same version exists in internal repository
tokay1Windows Server 2012 R2 Standard / x64  OK    OK    WARNINGS    OK  UNNEEDED, same version exists in internal repository
merida1macOS 10.14.6 Mojave / x86_64  OK    OK    WARNINGS    OK  UNNEEDED, same version exists in internal repository
Package 21/29HostnameOS / ArchINSTALLBUILDCHECKBUILD BIN
rtracklayer 1.50.0  (landing page)
Michael Lawrence
Last Commit: d2e61f7
Last Changed Date: 2020-10-27 10:33:14 -0400
malbec1Linux (Ubuntu 18.04.5 LTS) / x86_64  OK    OK    WARNINGS  UNNEEDED, same version exists in internal repository
tokay1Windows Server 2012 R2 Standard / x64  OK    OK    ERROR    OK  
merida1macOS 10.14.6 Mojave / x86_64  OK    OK    WARNINGS    OK  UNNEEDED, same version exists in internal repository
Package 22/29HostnameOS / ArchINSTALLBUILDCHECKBUILD BIN
scPipe 1.12.0  (landing page)
Luyi Tian
Last Commit: 8acde69
Last Changed Date: 2020-10-27 11:28:50 -0400
malbec1Linux (Ubuntu 18.04.5 LTS) / x86_64  OK    OK    OK  UNNEEDED, same version exists in internal repository
tokay1Windows Server 2012 R2 Standard / x64  OK    OK    OK    OK  UNNEEDED, same version exists in internal repository
merida1macOS 10.14.6 Mojave / x86_64  OK    OK    OK    OK  UNNEEDED, same version exists in internal repository
Package 23/29HostnameOS / ArchINSTALLBUILDCHECKBUILD BIN
seqTools 1.24.0  (landing page)
Wolfgang Kaisers
Last Commit: 8b5b88d
Last Changed Date: 2020-10-27 11:01:02 -0400
malbec1Linux (Ubuntu 18.04.5 LTS) / x86_64  OK    OK    WARNINGS  UNNEEDED, same version exists in internal repository
tokay1Windows Server 2012 R2 Standard / x64  OK    OK    WARNINGS    OK  UNNEEDED, same version exists in internal repository
merida1macOS 10.14.6 Mojave / x86_64  OK    OK    WARNINGS    OK  UNNEEDED, same version exists in internal repository
Package 24/29HostnameOS / ArchINSTALLBUILDCHECKBUILD BIN
ShortRead 1.48.0  (landing page)
Bioconductor Package Maintainer
Last Commit: ba44cd2
Last Changed Date: 2020-10-27 10:33:27 -0400
malbec1Linux (Ubuntu 18.04.5 LTS) / x86_64  OK    OK    WARNINGS  UNNEEDED, same version exists in internal repository
tokay1Windows Server 2012 R2 Standard / x64  OK    OK    WARNINGS    OK  UNNEEDED, same version exists in internal repository
merida1macOS 10.14.6 Mojave / x86_64  OK    OK    OK    OK  UNNEEDED, same version exists in internal repository
Package 25/29HostnameOS / ArchINSTALLBUILDCHECKBUILD BIN
snpStats 1.40.0  (landing page)
David Clayton
Last Commit: 5fcac6f
Last Changed Date: 2020-10-27 10:32:57 -0400
malbec1Linux (Ubuntu 18.04.5 LTS) / x86_64  OK    OK    OK  UNNEEDED, same version exists in internal repository
tokay1Windows Server 2012 R2 Standard / x64  OK    OK    WARNINGS    OK  UNNEEDED, same version exists in internal repository
merida1macOS 10.14.6 Mojave / x86_64  OK    OK    OK    OK  UNNEEDED, same version exists in internal repository
Package 26/29HostnameOS / ArchINSTALLBUILDCHECKBUILD BIN
Starr 1.46.0  (landing page)
Benedikt Zacher
Last Commit: f4ce49b
Last Changed Date: 2020-10-27 10:36:12 -0400
malbec1Linux (Ubuntu 18.04.5 LTS) / x86_64  OK    OK    ERROR  
tokay1Windows Server 2012 R2 Standard / x64  OK    OK    ERROR    OK  
merida1macOS 10.14.6 Mojave / x86_64  OK    OK    ERROR    OK  
Package 27/29HostnameOS / ArchINSTALLBUILDCHECKBUILD BIN
TransView 1.34.0  (landing page)
Julius Muller
Last Commit: 8a97404
Last Changed Date: 2020-10-27 10:47:46 -0400
malbec1Linux (Ubuntu 18.04.5 LTS) / x86_64  OK    OK    OK  UNNEEDED, same version exists in internal repository
tokay1Windows Server 2012 R2 Standard / x64  OK    OK    WARNINGS    OK  UNNEEDED, same version exists in internal repository
merida1macOS 10.14.6 Mojave / x86_64  OK    OK    OK    OK  UNNEEDED, same version exists in internal repository
Package 28/29HostnameOS / ArchINSTALLBUILDCHECKBUILD BIN
VariantAnnotation 1.36.0  (landing page)
Bioconductor Package Maintainer
Last Commit: 9918bd1
Last Changed Date: 2020-10-27 10:42:24 -0400
malbec1Linux (Ubuntu 18.04.5 LTS) / x86_64  OK    OK    OK  UNNEEDED, same version exists in internal repository
tokay1Windows Server 2012 R2 Standard / x64  OK    OK    WARNINGS    OK  UNNEEDED, same version exists in internal repository
merida1macOS 10.14.6 Mojave / x86_64  OK    OK    OK    OK  UNNEEDED, same version exists in internal repository
Package 29/29HostnameOS / ArchINSTALLBUILDCHECKBUILD BIN
XVector 0.30.0  (landing page)
Hervé Pagès
Last Commit: 985e963
Last Changed Date: 2020-10-27 10:50:45 -0400
malbec1Linux (Ubuntu 18.04.5 LTS) / x86_64  OK    OK    WARNINGS  UNNEEDED, same version exists in internal repository
tokay1Windows Server 2012 R2 Standard / x64  OK    OK    WARNINGS    OK  UNNEEDED, same version exists in internal repository
merida1macOS 10.14.6 Mojave / x86_64  OK    OK    WARNINGS    OK  UNNEEDED, same version exists in internal repository