Back to Multiple platform build/check report for BioC 3.13
ABCDEFGHIJKLMNOPQRSTUVWX[Y]Z

This page was generated on 2021-09-17 15:05:56 -0400 (Fri, 17 Sep 2021).

INSTALL results for yamss on nebbiolo1

To the developers/maintainers of the yamss package:
- Please allow up to 24 hours (and sometimes 48 hours) for your latest push to git@git.bioconductor.org:packages/yamss.git to
reflect on this report. See How and When does the builder pull? When will my changes propagate? here for more information.
- Make sure to use the following settings in order to reproduce any error or warning you see on this page.

raw results

Package 2034/2041HostnameOS / ArchINSTALLBUILDCHECKBUILD BIN
yamss 1.18.0  (landing page)
Leslie Myint
Snapshot Date: 2021-09-16 04:50:11 -0400 (Thu, 16 Sep 2021)
git_url: https://git.bioconductor.org/packages/yamss
git_branch: RELEASE_3_13
git_last_commit: 6536737
git_last_commit_date: 2021-05-19 12:24:17 -0400 (Wed, 19 May 2021)
nebbiolo1Linux (Ubuntu 20.04.2 LTS) / x86_64  OK    OK    OK  UNNEEDED, same version is already published
tokay2Windows Server 2012 R2 Standard / x64  OK    OK    OK    OK  UNNEEDED, same version is already published
machv2macOS 10.14.6 Mojave / x86_64  OK    OK    OK    OK  UNNEEDED, same version is already published

Summary

Package: yamss
Version: 1.18.0
Command: /home/biocbuild/bbs-3.13-bioc/R/bin/R CMD INSTALL yamss
StartedAt: 2021-09-16 06:36:45 -0400 (Thu, 16 Sep 2021)
EndedAt: 2021-09-16 06:37:07 -0400 (Thu, 16 Sep 2021)
EllapsedTime: 21.3 seconds
RetCode: 0
Status:   OK  

Command output

##############################################################################
##############################################################################
###
### Running command:
###
###   /home/biocbuild/bbs-3.13-bioc/R/bin/R CMD INSTALL yamss
###
##############################################################################
##############################################################################


* installing to library ‘/home/biocbuild/bbs-3.13-bioc/R/library’
* installing *source* package ‘yamss’ ...
** using staged installation
** R
** data
** inst
** byte-compile and prepare package for lazy loading
No methods found in package ‘IRanges’ for request: ‘ifelse’ when loading ‘yamss’
** help
*** installing help indices
** building package indices
** installing vignettes
** testing if installed package can be loaded from temporary location
No methods found in package ‘IRanges’ for request: ‘ifelse’ when loading ‘yamss’
** testing if installed package can be loaded from final location
No methods found in package ‘IRanges’ for request: ‘ifelse’ when loading ‘yamss’
** testing if installed package keeps a record of temporary installation path
* DONE (yamss)