Back to Multiple platform build/check report for BioC 3.13
ABCDEFGHIJKLMNOPQRSTUVW[X]YZ

This page was generated on 2021-09-17 15:06:59 -0400 (Fri, 17 Sep 2021).

BUILD results for xcms on machv2

To the developers/maintainers of the xcms package:
- Please allow up to 24 hours (and sometimes 48 hours) for your latest push to git@git.bioconductor.org:packages/xcms.git to
reflect on this report. See How and When does the builder pull? When will my changes propagate? here for more information.
- Make sure to use the following settings in order to reproduce any error or warning you see on this page.

raw results

Package 2027/2041HostnameOS / ArchINSTALLBUILDCHECKBUILD BIN
xcms 3.14.1  (landing page)
Steffen Neumann
Snapshot Date: 2021-09-16 04:50:11 -0400 (Thu, 16 Sep 2021)
git_url: https://git.bioconductor.org/packages/xcms
git_branch: RELEASE_3_13
git_last_commit: 71f6b4f
git_last_commit_date: 2021-07-23 04:33:46 -0400 (Fri, 23 Jul 2021)
nebbiolo1Linux (Ubuntu 20.04.2 LTS) / x86_64  OK    OK    OK  UNNEEDED, same version is already published
tokay2Windows Server 2012 R2 Standard / x64  OK    OK    OK    OK  UNNEEDED, same version is already published
machv2macOS 10.14.6 Mojave / x86_64  OK    OK    OK    OK  UNNEEDED, same version is already published

Summary

Package: xcms
Version: 3.14.1
Command: /Library/Frameworks/R.framework/Versions/Current/Resources/bin/R CMD build --keep-empty-dirs --no-resave-data xcms
StartedAt: 2021-09-16 15:44:05 -0400 (Thu, 16 Sep 2021)
EndedAt: 2021-09-16 15:48:40 -0400 (Thu, 16 Sep 2021)
EllapsedTime: 275.3 seconds
RetCode: 0
Status:   OK  
PackageFile: xcms_3.14.1.tar.gz
PackageFileSize: 4.731 MiB

Command output

##############################################################################
##############################################################################
###
### Running command:
###
###   /Library/Frameworks/R.framework/Versions/Current/Resources/bin/R CMD build --keep-empty-dirs --no-resave-data xcms
###
##############################################################################
##############################################################################


* checking for file ‘xcms/DESCRIPTION’ ... OK
* preparing ‘xcms’:
* checking DESCRIPTION meta-information ... OK
* cleaning src
* installing the package to build vignettes
* creating vignettes ... OK
* cleaning src
* checking for LF line-endings in source and make files and shell scripts
* checking for empty or unneeded directories
* looking to see if a ‘data/datalist’ file should be added
* building ‘xcms_3.14.1.tar.gz’