Index of /checkResults/release/bioc-LATEST/webbioc/raw-results/merida1

[ICO]NameLast modifiedSizeDescription

[DIR]Parent Directory  -  
[   ]install-summary.dcf20-Jul-2024 06:40 269  
[TXT]install-out.txt20-Jul-2024 06:40 1.0K 
[   ]checksrc-summary.dcf20-Jul-2024 06:40 444  
[TXT]checksrc-out.txt20-Jul-2024 06:40 3.7K 
[   ]buildsrc-summary.dcf20-Jul-2024 06:40 427  
[TXT]buildsrc-out.txt20-Jul-2024 06:40 816  
[   ]buildbin-summary.dcf20-Jul-2024 06:40 530  
[TXT]buildbin-out.txt20-Jul-2024 06:40 1.1K