Index of /checkResults/release/bioc-LATEST/webbioc/raw-results/merida1

[ICO]NameLast modifiedSizeDescription

[DIR]Parent Directory  -  
[TXT]buildbin-out.txt22-Jun-2024 06:41 1.1K 
[   ]buildbin-summary.dcf22-Jun-2024 06:41 530  
[TXT]buildsrc-out.txt22-Jun-2024 06:41 816  
[   ]buildsrc-summary.dcf22-Jun-2024 06:41 427  
[TXT]checksrc-out.txt22-Jun-2024 06:41 3.7K 
[   ]checksrc-summary.dcf22-Jun-2024 06:41 444  
[TXT]install-out.txt22-Jun-2024 06:41 1.0K 
[   ]install-summary.dcf22-Jun-2024 06:41 269