Back to Multiple platform build/check report for BioC 3.13
ABCDEFGHIJKLMNOPQRSTU[V]WXYZ

This page was generated on 2021-07-23 15:05:55 -0400 (Fri, 23 Jul 2021).

BUILD results for vtpnet on nebbiolo1

To the developers/maintainers of the vtpnet package:
- Please allow up to 24 hours (and sometimes 48 hours) for your latest push to git@git.bioconductor.org:packages/vtpnet.git to
reflect on this report. See How and When does the builder pull? When will my changes propagate? here for more information.
- Make sure to use the following settings in order to reproduce any error or warning you see on this page.

raw results

Package 2012/2041HostnameOS / ArchINSTALLBUILDCHECKBUILD BIN
vtpnet 0.32.0  (landing page)
VJ Carey
Snapshot Date: 2021-07-22 04:50:13 -0400 (Thu, 22 Jul 2021)
URL: https://git.bioconductor.org/packages/vtpnet
Branch: RELEASE_3_13
Last Commit: adfd187
Last Changed Date: 2021-05-19 11:59:05 -0400 (Wed, 19 May 2021)
nebbiolo1Linux (Ubuntu 20.04.2 LTS) / x86_64  OK    OK    OK  UNNEEDED, same version is already published
tokay2Windows Server 2012 R2 Standard / x64  OK    OK    OK    OK  UNNEEDED, same version is already published
machv2macOS 10.14.6 Mojave / x86_64  OK    OK    OK    OK  UNNEEDED, same version is already published

Summary

Package: vtpnet
Version: 0.32.0
Command: /home/biocbuild/bbs-3.13-bioc/R/bin/R CMD build --keep-empty-dirs --no-resave-data vtpnet
StartedAt: 2021-07-22 08:37:38 -0400 (Thu, 22 Jul 2021)
EndedAt: 2021-07-22 08:38:59 -0400 (Thu, 22 Jul 2021)
EllapsedTime: 81.4 seconds
RetCode: 0
Status:   OK  
PackageFile: vtpnet_0.32.0.tar.gz
PackageFileSize: 20.12 MiB

Command output

##############################################################################
##############################################################################
###
### Running command:
###
###   /home/biocbuild/bbs-3.13-bioc/R/bin/R CMD build --keep-empty-dirs --no-resave-data vtpnet
###
##############################################################################
##############################################################################


* checking for file ‘vtpnet/DESCRIPTION’ ... OK
* preparing ‘vtpnet’:
* checking DESCRIPTION meta-information ... OK
* installing the package to build vignettes
* creating vignettes ... OK
* checking for LF line-endings in source and make files and shell scripts
* checking for empty or unneeded directories
* looking to see if a ‘data/datalist’ file should be added
* building ‘vtpnet_0.32.0.tar.gz’