Back to Multiple platform build/check report for BioC 3.19:   simplified   long
ABCDEFGHIJKLMNOPQRS[T]UVWXYZ

This page was generated on 2024-07-19 17:41 -0400 (Fri, 19 Jul 2024).

HostnameOSArch (*)R versionInstalled pkgs
nebbiolo1Linux (Ubuntu 22.04.3 LTS)x86_644.4.1 (2024-06-14) -- "Race for Your Life" 4742
palomino7Windows Server 2022 Datacenterx644.4.1 (2024-06-14 ucrt) -- "Race for Your Life" 4484
merida1macOS 12.7.5 Montereyx86_644.4.1 (2024-06-14) -- "Race for Your Life" 4513
kjohnson1macOS 13.6.6 Venturaarm644.4.1 (2024-06-14) -- "Race for Your Life" 4462
Click on any hostname to see more info about the system (e.g. compilers)      (*) as reported by 'uname -p', except on Windows and Mac OS X

Package 2225/2300HostnameOS / ArchINSTALLBUILDCHECKBUILD BIN
twilight 1.80.0  (landing page)
Stefanie Scheid
Snapshot Date: 2024-07-17 14:00 -0400 (Wed, 17 Jul 2024)
git_url: https://git.bioconductor.org/packages/twilight
git_branch: RELEASE_3_19
git_last_commit: 9e9d406
git_last_commit_date: 2024-04-30 10:13:05 -0400 (Tue, 30 Apr 2024)
nebbiolo1Linux (Ubuntu 22.04.3 LTS) / x86_64  OK    OK    OK  UNNEEDED, same version is already published
palomino7Windows Server 2022 Datacenter / x64  OK    OK    OK    OK  
merida1macOS 12.7.5 Monterey / x86_64  OK    OK    WARNINGS    OK  UNNEEDED, same version is already published
kjohnson1macOS 13.6.6 Ventura / arm64  OK    OK    WARNINGS    NA  


INSTALL results for twilight on kjohnson1

To the developers/maintainers of the twilight package:
- Allow up to 24 hours (and sometimes 48 hours) for your latest push to git@git.bioconductor.org:packages/twilight.git to reflect on this report. See Troubleshooting Build Report for more information.
- Use the following Renviron settings to reproduce errors and warnings.
- If 'R CMD check' started to fail recently on the Linux builder(s) over a missing dependency, add the missing dependency to 'Suggests:' in your DESCRIPTION file. See Renviron.bioc for more information.

raw results


Summary

Package: twilight
Version: 1.80.0
Command: /Library/Frameworks/R.framework/Resources/bin/R CMD INSTALL twilight
StartedAt: 2024-07-17 15:13:45 -0400 (Wed, 17 Jul 2024)
EndedAt: 2024-07-17 15:13:51 -0400 (Wed, 17 Jul 2024)
EllapsedTime: 5.9 seconds
RetCode: 0
Status:   OK  

Command output

##############################################################################
##############################################################################
###
### Running command:
###
###   /Library/Frameworks/R.framework/Resources/bin/R CMD INSTALL twilight
###
##############################################################################
##############################################################################


* installing to library ‘/Library/Frameworks/R.framework/Versions/4.4-arm64/Resources/library’
* installing *source* package ‘twilight’ ...
** using staged installation
** libs
using C compiler: ‘Apple clang version 15.0.0 (clang-1500.0.40.1)’
using SDK: ‘MacOSX11.3.sdk’
clang -arch arm64 -I"/Library/Frameworks/R.framework/Resources/include" -DNDEBUG   -I/opt/R/arm64/include    -fPIC  -falign-functions=64 -Wall -g -O2  -c confidence.line.c -o confidence.line.o
clang -arch arm64 -I"/Library/Frameworks/R.framework/Resources/include" -DNDEBUG   -I/opt/R/arm64/include    -fPIC  -falign-functions=64 -Wall -g -O2  -c correlation.c -o correlation.o
clang -arch arm64 -I"/Library/Frameworks/R.framework/Resources/include" -DNDEBUG   -I/opt/R/arm64/include    -fPIC  -falign-functions=64 -Wall -g -O2  -c kstest.c -o kstest.o
clang -arch arm64 -I"/Library/Frameworks/R.framework/Resources/include" -DNDEBUG   -I/opt/R/arm64/include    -fPIC  -falign-functions=64 -Wall -g -O2  -c sep.c -o sep.o
sep.c:70:16: warning: using floating point absolute value function 'fabs' when argument is of integer type [-Wabsolute-value]
          ix[randnum]=fabs(1-ix[randnum]);
                      ^
sep.c:70:16: note: use function 'abs' instead
          ix[randnum]=fabs(1-ix[randnum]);
                      ^~~~
                      abs
sep.c:97:20: warning: using floating point absolute value function 'fabs' when argument is of integer type [-Wabsolute-value]
              ix[randnum]=fabs(1-ix[randnum]);
                          ^
sep.c:97:20: note: use function 'abs' instead
              ix[randnum]=fabs(1-ix[randnum]);
                          ^~~~
                          abs
sep.c:116:19: warning: using floating point absolute value function 'fabs' when argument is of integer type [-Wabsolute-value]
      ix[randnum]=fabs(1-ix[randnum]);
                  ^
sep.c:116:19: note: use function 'abs' instead
      ix[randnum]=fabs(1-ix[randnum]);
                  ^~~~
                  abs
sep.c:143:16: warning: using floating point absolute value function 'fabs' when argument is of integer type [-Wabsolute-value]
          ix[randnum]=fabs(1-ix[randnum]);
                      ^
sep.c:143:16: note: use function 'abs' instead
          ix[randnum]=fabs(1-ix[randnum]);
                      ^~~~
                      abs
4 warnings generated.
clang -arch arm64 -I"/Library/Frameworks/R.framework/Resources/include" -DNDEBUG   -I/opt/R/arm64/include    -fPIC  -falign-functions=64 -Wall -g -O2  -c twosample.perm.c -o twosample.perm.o
clang -arch arm64 -I"/Library/Frameworks/R.framework/Resources/include" -DNDEBUG   -I/opt/R/arm64/include    -fPIC  -falign-functions=64 -Wall -g -O2  -c twosample.single.c -o twosample.single.o
clang -arch arm64 -dynamiclib -Wl,-headerpad_max_install_names -undefined dynamic_lookup -L/Library/Frameworks/R.framework/Resources/lib -L/opt/R/arm64/lib -o twilight.so confidence.line.o correlation.o kstest.o sep.o twosample.perm.o twosample.single.o -F/Library/Frameworks/R.framework/.. -framework R -Wl,-framework -Wl,CoreFoundation
installing to /Library/Frameworks/R.framework/Versions/4.4-arm64/Resources/library/00LOCK-twilight/00new/twilight/libs
** R
** data
** inst
** byte-compile and prepare package for lazy loading
** help
*** installing help indices
** building package indices
** installing vignettes
** testing if installed package can be loaded from temporary location
** checking absolute paths in shared objects and dynamic libraries
** testing if installed package can be loaded from final location
** testing if installed package keeps a record of temporary installation path
* DONE (twilight)