Back to Multiple platform build/check report for BioC 3.19:   simplified   long
ABCDEFGHIJKLMNOPQRS[T]UVWXYZ

This page was generated on 2024-06-18 17:59 -0400 (Tue, 18 Jun 2024).

HostnameOSArch (*)R versionInstalled pkgs
nebbiolo1Linux (Ubuntu 22.04.3 LTS)x86_644.4.0 (2024-04-24) -- "Puppy Cup" 4758
palomino3Windows Server 2022 Datacenterx644.4.0 (2024-04-24 ucrt) -- "Puppy Cup" 4492
merida1macOS 12.7.4 Montereyx86_644.4.0 (2024-04-24) -- "Puppy Cup" 4464
kjohnson1macOS 13.6.6 Venturaarm644.4.0 (2024-04-24) -- "Puppy Cup" 4464
Click on any hostname to see more info about the system (e.g. compilers)      (*) as reported by 'uname -p', except on Windows and Mac OS X

Package 2197/2300HostnameOS / ArchINSTALLBUILDCHECKBUILD BIN
transomics2cytoscape 1.14.0  (landing page)
Kozo Nishida
Snapshot Date: 2024-06-16 14:00 -0400 (Sun, 16 Jun 2024)
git_url: https://git.bioconductor.org/packages/transomics2cytoscape
git_branch: RELEASE_3_19
git_last_commit: c9c30b0
git_last_commit_date: 2024-04-30 11:25:49 -0400 (Tue, 30 Apr 2024)
nebbiolo1Linux (Ubuntu 22.04.3 LTS) / x86_64  OK    OK    OK  UNNEEDED, same version is already published
palomino3Windows Server 2022 Datacenter / x64  OK    OK    OK    OK  UNNEEDED, same version is already published
merida1macOS 12.7.4 Monterey / x86_64  OK    OK    OK    OK  UNNEEDED, same version is already published
kjohnson1macOS 13.6.6 Ventura / arm64  OK    OK    OK    OK  UNNEEDED, same version is already published


BUILD results for transomics2cytoscape on palomino3

To the developers/maintainers of the transomics2cytoscape package:
- Allow up to 24 hours (and sometimes 48 hours) for your latest push to git@git.bioconductor.org:packages/transomics2cytoscape.git to reflect on this report. See Troubleshooting Build Report for more information.
- Use the following Renviron settings to reproduce errors and warnings.
- If 'R CMD check' started to fail recently on the Linux builder(s) over a missing dependency, add the missing dependency to 'Suggests:' in your DESCRIPTION file. See Renviron.bioc for more information.

raw results


Summary

Package: transomics2cytoscape
Version: 1.14.0
Command: chmod a+r transomics2cytoscape -R && F:\biocbuild\bbs-3.19-bioc\R\bin\R.exe CMD build --keep-empty-dirs --no-resave-data transomics2cytoscape
StartedAt: 2024-06-16 23:34:48 -0400 (Sun, 16 Jun 2024)
EndedAt: 2024-06-16 23:35:30 -0400 (Sun, 16 Jun 2024)
EllapsedTime: 41.8 seconds
RetCode: 0
Status:   OK  
PackageFile: transomics2cytoscape_1.14.0.tar.gz
PackageFileSize: 11.82 MiB

Command output

##############################################################################
##############################################################################
###
### Running command:
###
###   chmod a+r transomics2cytoscape -R && F:\biocbuild\bbs-3.19-bioc\R\bin\R.exe CMD build --keep-empty-dirs --no-resave-data transomics2cytoscape
###
##############################################################################
##############################################################################


* checking for file 'transomics2cytoscape/DESCRIPTION' ... OK
* preparing 'transomics2cytoscape':
* checking DESCRIPTION meta-information ... OK
* installing the package to build vignettes
* creating vignettes ... OK
* checking for LF line-endings in source and make files and shell scripts
* checking for empty or unneeded directories
Omitted 'LazyData' from DESCRIPTION
* building 'transomics2cytoscape_1.14.0.tar.gz'