Back to Multiple platform build/check report for BioC 3.13
ABCDEFGHIJKLMNOPQRS[T]UVWXYZ

This page was generated on 2021-09-20 15:05:32 -0400 (Mon, 20 Sep 2021).

INSTALL results for transcriptogramer on tokay2

To the developers/maintainers of the transcriptogramer package:
- Please allow up to 24 hours (and sometimes 48 hours) for your latest push to git@git.bioconductor.org:packages/transcriptogramer.git to
reflect on this report. See How and When does the builder pull? When will my changes propagate? here for more information.
- Make sure to use the following settings in order to reproduce any error or warning you see on this page.

raw results

Package 1946/2041HostnameOS / ArchINSTALLBUILDCHECKBUILD BIN
transcriptogramer 1.14.0  (landing page)
Diego Morais
Snapshot Date: 2021-09-19 04:50:10 -0400 (Sun, 19 Sep 2021)
git_url: https://git.bioconductor.org/packages/transcriptogramer
git_branch: RELEASE_3_13
git_last_commit: 33f0ca5
git_last_commit_date: 2021-05-19 12:31:57 -0400 (Wed, 19 May 2021)
nebbiolo1Linux (Ubuntu 20.04.2 LTS) / x86_64  OK    OK    OK  UNNEEDED, same version is already published
tokay2Windows Server 2012 R2 Standard / x64  OK    OK    OK    OK  UNNEEDED, same version is already published
machv2macOS 10.14.6 Mojave / x86_64  OK    OK    OK    OK  UNNEEDED, same version is already published

Summary

Package: transcriptogramer
Version: 1.14.0
Command: C:\cygwin\bin\curl.exe -O http://155.52.207.165/BBS/3.13/bioc/src/contrib/transcriptogramer_1.14.0.tar.gz && rm -rf transcriptogramer.buildbin-libdir && mkdir transcriptogramer.buildbin-libdir && C:\Users\biocbuild\bbs-3.13-bioc\R\bin\R.exe CMD INSTALL --merge-multiarch --build --library=transcriptogramer.buildbin-libdir transcriptogramer_1.14.0.tar.gz && C:\Users\biocbuild\bbs-3.13-bioc\R\bin\R.exe CMD INSTALL transcriptogramer_1.14.0.zip && rm transcriptogramer_1.14.0.tar.gz transcriptogramer_1.14.0.zip
StartedAt: 2021-09-19 09:08:14 -0400 (Sun, 19 Sep 2021)
EndedAt: 2021-09-19 09:12:23 -0400 (Sun, 19 Sep 2021)
EllapsedTime: 249.7 seconds
RetCode: 0
Status:   OK  

Command output

##############################################################################
##############################################################################
###
### Running command:
###
###   C:\cygwin\bin\curl.exe -O http://155.52.207.165/BBS/3.13/bioc/src/contrib/transcriptogramer_1.14.0.tar.gz && rm -rf transcriptogramer.buildbin-libdir && mkdir transcriptogramer.buildbin-libdir && C:\Users\biocbuild\bbs-3.13-bioc\R\bin\R.exe CMD INSTALL --merge-multiarch --build --library=transcriptogramer.buildbin-libdir transcriptogramer_1.14.0.tar.gz && C:\Users\biocbuild\bbs-3.13-bioc\R\bin\R.exe CMD INSTALL transcriptogramer_1.14.0.zip && rm transcriptogramer_1.14.0.tar.gz transcriptogramer_1.14.0.zip
###
##############################################################################
##############################################################################


  % Total    % Received % Xferd  Average Speed   Time    Time     Time  Current
                                 Dload  Upload   Total   Spent    Left  Speed

  0     0    0     0    0     0      0      0 --:--:-- --:--:-- --:--:--     0
  0     0    0     0    0     0      0      0 --:--:-- --:--:-- --:--:--     0
100 3081k  100 3081k    0     0  4277k      0 --:--:-- --:--:-- --:--:-- 4279k

install for i386

* installing *source* package 'transcriptogramer' ...
** using staged installation
** R
** data
*** moving datasets to lazyload DB
** inst
** byte-compile and prepare package for lazy loading
** help
*** installing help indices
  converting help for package 'transcriptogramer'
    finding HTML links ... done
    DE-method                               html  
    DEsymbols                               html  
    GPL570                                  html  
    GSE9988                                 html  
    Hs700                                   html  
    Hs800                                   html  
    Hs900                                   html  
    HsBPTerms                               html  
    Mm700                                   html  
    Mm800                                   html  
    Mm900                                   html  
    Rn700                                   html  
    Rn800                                   html  
    Rn900                                   html  
    Sc700                                   html  
    Sc800                                   html  
    Sc900                                   html  
    Terms-method                            html  
    Transcriptogram-class                   html  
    association                             html  
    clusterEnrichment-method                html  
    clusterVisualization-method             html  
    connectivityProperties-method           html  
    differentiallyExpressed-method          html  
    enrichmentPlot-method                   html  
    orderingProperties-method               html  
    radius-method                           html  
    transcriptogramPreprocess               html  
    transcriptogramStep1-method             html  
    transcriptogramStep2-method             html  
    transcriptogramer-package               html  
** building package indices
** installing vignettes
** testing if installed package can be loaded from temporary location
** testing if installed package can be loaded from final location
** testing if installed package keeps a record of temporary installation path

install for x64

* installing *source* package 'transcriptogramer' ...
** testing if installed package can be loaded
* MD5 sums
packaged installation of 'transcriptogramer' as transcriptogramer_1.14.0.zip
* DONE (transcriptogramer)
* installing to library 'C:/Users/biocbuild/bbs-3.13-bioc/R/library'
package 'transcriptogramer' successfully unpacked and MD5 sums checked