Back to Multiple platform build/check report for BioC 3.13
ABCDEFGHIJKLMNOPQRS[T]UVWXYZ

This page was generated on 2021-09-20 15:06:01 -0400 (Mon, 20 Sep 2021).

BUILD results for transcriptogramer on machv2

To the developers/maintainers of the transcriptogramer package:
- Please allow up to 24 hours (and sometimes 48 hours) for your latest push to git@git.bioconductor.org:packages/transcriptogramer.git to
reflect on this report. See How and When does the builder pull? When will my changes propagate? here for more information.
- Make sure to use the following settings in order to reproduce any error or warning you see on this page.

raw results

Package 1946/2041HostnameOS / ArchINSTALLBUILDCHECKBUILD BIN
transcriptogramer 1.14.0  (landing page)
Diego Morais
Snapshot Date: 2021-09-19 04:50:10 -0400 (Sun, 19 Sep 2021)
git_url: https://git.bioconductor.org/packages/transcriptogramer
git_branch: RELEASE_3_13
git_last_commit: 33f0ca5
git_last_commit_date: 2021-05-19 12:31:57 -0400 (Wed, 19 May 2021)
nebbiolo1Linux (Ubuntu 20.04.2 LTS) / x86_64  OK    OK    OK  UNNEEDED, same version is already published
tokay2Windows Server 2012 R2 Standard / x64  OK    OK    OK    OK  UNNEEDED, same version is already published
machv2macOS 10.14.6 Mojave / x86_64  OK    OK    OK    OK  UNNEEDED, same version is already published

Summary

Package: transcriptogramer
Version: 1.14.0
Command: /Library/Frameworks/R.framework/Versions/Current/Resources/bin/R CMD build --keep-empty-dirs --no-resave-data transcriptogramer
StartedAt: 2021-09-19 15:18:54 -0400 (Sun, 19 Sep 2021)
EndedAt: 2021-09-19 15:39:30 -0400 (Sun, 19 Sep 2021)
EllapsedTime: 1235.6 seconds
RetCode: 0
Status:   OK  
PackageFile: transcriptogramer_1.14.0.tar.gz
PackageFileSize: 3.63 MiB

Command output

##############################################################################
##############################################################################
###
### Running command:
###
###   /Library/Frameworks/R.framework/Versions/Current/Resources/bin/R CMD build --keep-empty-dirs --no-resave-data transcriptogramer
###
##############################################################################
##############################################################################


* checking for file ‘transcriptogramer/DESCRIPTION’ ... OK
* preparing ‘transcriptogramer’:
* checking DESCRIPTION meta-information ... OK
* installing the package to build vignettes
* creating vignettes ... OK
* checking for LF line-endings in source and make files and shell scripts
* checking for empty or unneeded directories
* building ‘transcriptogramer_1.14.0.tar.gz’