Back to Multiple platform build/check report for BioC 3.19:   simplified   long
ABCDEFGHIJKLMNOPQRS[T]UVWXYZ

This page was generated on 2024-06-11 14:40 -0400 (Tue, 11 Jun 2024).

HostnameOSArch (*)R versionInstalled pkgs
nebbiolo1Linux (Ubuntu 22.04.3 LTS)x86_644.4.0 (2024-04-24) -- "Puppy Cup" 4757
palomino3Windows Server 2022 Datacenterx644.4.0 (2024-04-24 ucrt) -- "Puppy Cup" 4491
lconwaymacOS 12.7.1 Montereyx86_644.4.0 (2024-04-24) -- "Puppy Cup" 4522
kjohnson3macOS 13.6.5 Venturaarm644.4.0 (2024-04-24) -- "Puppy Cup" 4468
Click on any hostname to see more info about the system (e.g. compilers)      (*) as reported by 'uname -p', except on Windows and Mac OS X

Package 2192/2300HostnameOS / ArchINSTALLBUILDCHECKBUILD BIN
transcriptR 1.32.0  (landing page)
Armen R. Karapetyan
Snapshot Date: 2024-06-09 14:00 -0400 (Sun, 09 Jun 2024)
git_url: https://git.bioconductor.org/packages/transcriptR
git_branch: RELEASE_3_19
git_last_commit: 9485856
git_last_commit_date: 2024-04-30 10:47:14 -0400 (Tue, 30 Apr 2024)
nebbiolo1Linux (Ubuntu 22.04.3 LTS) / x86_64  OK    OK    OK  UNNEEDED, same version is already published
palomino3Windows Server 2022 Datacenter / x64  OK    OK    OK    OK  UNNEEDED, same version is already published
lconwaymacOS 12.7.1 Monterey / x86_64  OK    OK    OK    OK  UNNEEDED, same version is already published
kjohnson3macOS 13.6.5 Ventura / arm64  OK    OK    OK    OK  UNNEEDED, same version is already published


CHECK results for transcriptR on nebbiolo1

To the developers/maintainers of the transcriptR package:
- Allow up to 24 hours (and sometimes 48 hours) for your latest push to git@git.bioconductor.org:packages/transcriptR.git to reflect on this report. See Troubleshooting Build Report for more information.
- Use the following Renviron settings to reproduce errors and warnings.
- If 'R CMD check' started to fail recently on the Linux builder(s) over a missing dependency, add the missing dependency to 'Suggests:' in your DESCRIPTION file. See Renviron.bioc for more information.

raw results


Summary

Package: transcriptR
Version: 1.32.0
Command: /home/biocbuild/bbs-3.19-bioc/R/bin/R CMD check --install=check:transcriptR.install-out.txt --library=/home/biocbuild/bbs-3.19-bioc/R/site-library --timings transcriptR_1.32.0.tar.gz
StartedAt: 2024-06-10 04:17:27 -0400 (Mon, 10 Jun 2024)
EndedAt: 2024-06-10 04:24:52 -0400 (Mon, 10 Jun 2024)
EllapsedTime: 445.0 seconds
RetCode: 0
Status:   OK  
CheckDir: transcriptR.Rcheck
Warnings: 0

Command output

##############################################################################
##############################################################################
###
### Running command:
###
###   /home/biocbuild/bbs-3.19-bioc/R/bin/R CMD check --install=check:transcriptR.install-out.txt --library=/home/biocbuild/bbs-3.19-bioc/R/site-library --timings transcriptR_1.32.0.tar.gz
###
##############################################################################
##############################################################################


* using log directory ‘/home/biocbuild/bbs-3.19-bioc/meat/transcriptR.Rcheck’
* using R version 4.4.0 (2024-04-24)
* using platform: x86_64-pc-linux-gnu
* R was compiled by
    gcc (Ubuntu 11.4.0-1ubuntu1~22.04) 11.4.0
    GNU Fortran (Ubuntu 11.4.0-1ubuntu1~22.04) 11.4.0
* running under: Ubuntu 22.04.4 LTS
* using session charset: UTF-8
* checking for file ‘transcriptR/DESCRIPTION’ ... OK
* checking extension type ... Package
* this is package ‘transcriptR’ version ‘1.32.0’
* checking package namespace information ... OK
* checking package dependencies ... OK
* checking if this is a source package ... OK
* checking if there is a namespace ... OK
* checking for hidden files and directories ... OK
* checking for portable file names ... OK
* checking for sufficient/correct file permissions ... OK
* checking whether package ‘transcriptR’ can be installed ... OK
* checking installed package size ... OK
* checking package directory ... OK
* checking ‘build’ directory ... OK
* checking DESCRIPTION meta-information ... OK
* checking top-level files ... OK
* checking for left-over files ... OK
* checking index information ... OK
* checking package subdirectories ... OK
* checking code files for non-ASCII characters ... OK
* checking R files for syntax errors ... OK
* checking whether the package can be loaded ... OK
* checking whether the package can be loaded with stated dependencies ... OK
* checking whether the package can be unloaded cleanly ... OK
* checking whether the namespace can be loaded with stated dependencies ... OK
* checking whether the namespace can be unloaded cleanly ... OK
* checking loading without being on the library search path ... OK
* checking dependencies in R code ... OK
* checking S3 generic/method consistency ... OK
* checking replacement functions ... OK
* checking foreign function calls ... OK
* checking R code for possible problems ... OK
* checking Rd files ... OK
* checking Rd metadata ... OK
* checking Rd cross-references ... OK
* checking for missing documentation entries ... OK
* checking for code/documentation mismatches ... OK
* checking Rd \usage sections ... OK
* checking Rd contents ... OK
* checking for unstated dependencies in examples ... OK
* checking contents of ‘data’ directory ... OK
* checking data for non-ASCII characters ... OK
* checking data for ASCII and uncompressed saves ... OK
* checking files in ‘vignettes’ ... OK
* checking examples ... OK
Examples with CPU (user + system) or elapsed time > 5s
                                 user system elapsed
breakTranscriptsByPeaks-methods 7.006  0.444   7.451
* checking for unstated dependencies in ‘tests’ ... OK
* checking tests ...
  Running ‘testthat.R’
 OK
* checking for unstated dependencies in vignettes ... OK
* checking package vignettes ... OK
* checking re-building of vignette outputs ... OK
* checking PDF version of manual ... OK
* DONE

Status: OK


Installation output

transcriptR.Rcheck/00install.out

##############################################################################
##############################################################################
###
### Running command:
###
###   /home/biocbuild/bbs-3.19-bioc/R/bin/R CMD INSTALL transcriptR
###
##############################################################################
##############################################################################


* installing to library ‘/home/biocbuild/bbs-3.19-bioc/R/site-library’
* installing *source* package ‘transcriptR’ ...
** using staged installation
** R
** data
** inst
** byte-compile and prepare package for lazy loading
** help
*** installing help indices
** building package indices
** installing vignettes
** testing if installed package can be loaded from temporary location
** testing if installed package can be loaded from final location
** testing if installed package keeps a record of temporary installation path
* DONE (transcriptR)

Tests output

transcriptR.Rcheck/tests/testthat.Rout


R version 4.4.0 (2024-04-24) -- "Puppy Cup"
Copyright (C) 2024 The R Foundation for Statistical Computing
Platform: x86_64-pc-linux-gnu

R is free software and comes with ABSOLUTELY NO WARRANTY.
You are welcome to redistribute it under certain conditions.
Type 'license()' or 'licence()' for distribution details.

R is a collaborative project with many contributors.
Type 'contributors()' for more information and
'citation()' on how to cite R or R packages in publications.

Type 'demo()' for some demos, 'help()' for on-line help, or
'help.start()' for an HTML browser interface to help.
Type 'q()' to quit R.

> library(testthat)
> library(transcriptR)
> 
> test_check("transcriptR")
[ FAIL 0 | WARN 0 | SKIP 0 | PASS 87 ]
> 
> proc.time()
   user  system elapsed 
 54.022   1.909  55.922 

Example timings

transcriptR.Rcheck/transcriptR-Ex.timings

nameusersystemelapsed
addFeature-methods0.0780.0040.081
annotateTranscripts-methods2.4800.1442.624
breakTranscriptsByPeaks-methods7.0060.4447.451
constructCDS0.0030.0000.003
constructTDS0.2120.0150.227
detectTranscripts-methods1.0930.0441.136
estimateBackground-methods0.4220.0040.426
estimateGapDistance-methods0.8280.0440.872
exportCoverage-methods0.2350.0040.239
getConfusionMatrix-methods0.0030.0000.003
getGenomicAnnot-methods0.0000.0030.004
getPeaks-methods0.0160.0040.020
getPredictorSignificance-methods0.0030.0000.003
getProbTreshold-methods0.0030.0000.003
getQuadProb-methods0.2100.0160.226
getTestedGapDistances-methods0.2190.0160.235
getTranscripts-methods0.2210.0080.229
peaksToBed-methods3.3380.1003.438
plotErrorRate-methods0.8460.0280.874
plotFeatures-methods1.7540.0321.786
plotGenomicAnnot-methods0.4320.0120.444
plotROC-methods0.5620.0040.566
predictStrand-methods4.1950.1714.367
predictTssOverlap-methods0.5400.0040.544
show0.2140.0120.227
transcriptsToBed-methods1.1020.0201.122