Back to Multiple platform build/check report for BioC 3.13
ABCDEFGHIJKLMNOPQRS[T]UVWXYZ

This page was generated on 2021-07-23 15:06:54 -0400 (Fri, 23 Jul 2021).

BUILD BIN results for transcriptR on machv2

To the developers/maintainers of the transcriptR package:
- Please allow up to 24 hours (and sometimes 48 hours) for your latest push to git@git.bioconductor.org:packages/transcriptR.git to
reflect on this report. See How and When does the builder pull? When will my changes propagate? here for more information.
- Make sure to use the following settings in order to reproduce any error or warning you see on this page.

raw results

Package 1947/2041HostnameOS / ArchINSTALLBUILDCHECKBUILD BIN
transcriptR 1.20.0  (landing page)
Armen R. Karapetyan
Snapshot Date: 2021-07-22 04:50:13 -0400 (Thu, 22 Jul 2021)
URL: https://git.bioconductor.org/packages/transcriptR
Branch: RELEASE_3_13
Last Commit: 812d92c
Last Changed Date: 2021-05-19 12:17:06 -0400 (Wed, 19 May 2021)
nebbiolo1Linux (Ubuntu 20.04.2 LTS) / x86_64  OK    OK    OK  UNNEEDED, same version is already published
tokay2Windows Server 2012 R2 Standard / x64  OK    OK    OK    OK  UNNEEDED, same version is already published
machv2macOS 10.14.6 Mojave / x86_64  OK    OK    OK    OK  UNNEEDED, same version is already published

Summary

Package: transcriptR
Version: 1.20.0
Command: rm -rf transcriptR.buildbin-libdir && mkdir transcriptR.buildbin-libdir && /Users/biocbuild/BBS/utils/build-universal.sh transcriptR_1.20.0.tar.gz /Library/Frameworks/R.framework/Versions/Current/Resources/bin/R transcriptR.buildbin-libdir
StartedAt: 2021-07-23 03:26:29 -0400 (Fri, 23 Jul 2021)
EndedAt: 2021-07-23 03:27:21 -0400 (Fri, 23 Jul 2021)
EllapsedTime: 51.5 seconds
RetCode: 0
Status:   OK  
PackageFile: transcriptR_1.20.0.tgz
PackageFileSize: 3.321 MiB

Command output

##############################################################################
##############################################################################
###
### Running command:
###
###   rm -rf transcriptR.buildbin-libdir && mkdir transcriptR.buildbin-libdir && /Users/biocbuild/BBS/utils/build-universal.sh transcriptR_1.20.0.tar.gz /Library/Frameworks/R.framework/Versions/Current/Resources/bin/R transcriptR.buildbin-libdir
###
##############################################################################
##############################################################################


>>>>>>> 
>>>>>>> INSTALLATION WITH 'R CMD INSTALL --preclean --no-multiarch --library=transcriptR.buildbin-libdir transcriptR_1.20.0.tar.gz'
>>>>>>> 

* installing *source* package ‘transcriptR’ ...
** using staged installation
** R
** data
** inst
** byte-compile and prepare package for lazy loading
** help
*** installing help indices
** building package indices
** installing vignettes
** testing if installed package can be loaded from temporary location
** testing if installed package can be loaded from final location
** testing if installed package keeps a record of temporary installation path
* DONE (transcriptR)