Back to Multiple platform build/check report for BioC 3.13
ABCDEFGHIJKLMNOPQRS[T]UVWXYZ

This page was generated on 2021-08-02 15:06:02 -0400 (Mon, 02 Aug 2021).

BUILD results for trackViewer on machv2

To the developers/maintainers of the trackViewer package:
- Please allow up to 24 hours (and sometimes 48 hours) for your latest push to git@git.bioconductor.org:packages/trackViewer.git to
reflect on this report. See How and When does the builder pull? When will my changes propagate? here for more information.
- Make sure to use the following settings in order to reproduce any error or warning you see on this page.

raw results

Package 1942/2041HostnameOS / ArchINSTALLBUILDCHECKBUILD BIN
trackViewer 1.28.1  (landing page)
Jianhong Ou
Snapshot Date: 2021-08-01 04:50:10 -0400 (Sun, 01 Aug 2021)
URL: https://git.bioconductor.org/packages/trackViewer
Branch: RELEASE_3_13
Last Commit: 84fca6e
Last Changed Date: 2021-07-06 12:09:25 -0400 (Tue, 06 Jul 2021)
nebbiolo1Linux (Ubuntu 20.04.2 LTS) / x86_64  OK    OK    OK  UNNEEDED, same version is already published
tokay2Windows Server 2012 R2 Standard / x64  OK    OK    OK    OK  UNNEEDED, same version is already published
machv2macOS 10.14.6 Mojave / x86_64  OK    OK    OK    OK  UNNEEDED, same version is already published

Summary

Package: trackViewer
Version: 1.28.1
Command: /Library/Frameworks/R.framework/Versions/Current/Resources/bin/R CMD build --keep-empty-dirs --no-resave-data trackViewer
StartedAt: 2021-08-01 14:56:31 -0400 (Sun, 01 Aug 2021)
EndedAt: 2021-08-01 15:14:51 -0400 (Sun, 01 Aug 2021)
EllapsedTime: 1099.7 seconds
RetCode: 0
Status:   OK  
PackageFile: trackViewer_1.28.1.tar.gz
PackageFileSize: 8.055 MiB

Command output

##############################################################################
##############################################################################
###
### Running command:
###
###   /Library/Frameworks/R.framework/Versions/Current/Resources/bin/R CMD build --keep-empty-dirs --no-resave-data trackViewer
###
##############################################################################
##############################################################################


* checking for file ‘trackViewer/DESCRIPTION’ ... OK
* preparing ‘trackViewer’:
* checking DESCRIPTION meta-information ... OK
* cleaning src
* installing the package to build vignettes
* creating vignettes ... OK
* cleaning src
* checking for LF line-endings in source and make files and shell scripts
* checking for empty or unneeded directories
* building ‘trackViewer_1.28.1.tar.gz’