Back to Multiple platform build/check report for BioC 3.13
ABCDEFGHIJKLMNOPQRS[T]UVWXYZ

This page was generated on 2021-09-17 15:05:55 -0400 (Fri, 17 Sep 2021).

BUILD results for topdownr on nebbiolo1

To the developers/maintainers of the topdownr package:
- Please allow up to 24 hours (and sometimes 48 hours) for your latest push to git@git.bioconductor.org:packages/topdownr.git to
reflect on this report. See How and When does the builder pull? When will my changes propagate? here for more information.
- Make sure to use the following settings in order to reproduce any error or warning you see on this page.

raw results

Package 1936/2041HostnameOS / ArchINSTALLBUILDCHECKBUILD BIN
topdownr 1.14.0  (landing page)
Sebastian Gibb
Snapshot Date: 2021-09-16 04:50:11 -0400 (Thu, 16 Sep 2021)
git_url: https://git.bioconductor.org/packages/topdownr
git_branch: RELEASE_3_13
git_last_commit: 8a127d3
git_last_commit_date: 2021-05-19 12:31:23 -0400 (Wed, 19 May 2021)
nebbiolo1Linux (Ubuntu 20.04.2 LTS) / x86_64  OK    OK    OK  UNNEEDED, same version is already published
tokay2Windows Server 2012 R2 Standard / x64  OK    OK    OK    OK  UNNEEDED, same version is already published
machv2macOS 10.14.6 Mojave / x86_64  OK    OK    OK    OK  UNNEEDED, same version is already published

Summary

Package: topdownr
Version: 1.14.0
Command: /home/biocbuild/bbs-3.13-bioc/R/bin/R CMD build --keep-empty-dirs --no-resave-data topdownr
StartedAt: 2021-09-16 08:34:47 -0400 (Thu, 16 Sep 2021)
EndedAt: 2021-09-16 08:35:49 -0400 (Thu, 16 Sep 2021)
EllapsedTime: 62.2 seconds
RetCode: 0
Status:   OK  
PackageFile: topdownr_1.14.0.tar.gz
PackageFileSize: 1.407 MiB

Command output

##############################################################################
##############################################################################
###
### Running command:
###
###   /home/biocbuild/bbs-3.13-bioc/R/bin/R CMD build --keep-empty-dirs --no-resave-data topdownr
###
##############################################################################
##############################################################################


* checking for file ‘topdownr/DESCRIPTION’ ... OK
* preparing ‘topdownr’:
* checking DESCRIPTION meta-information ... OK
* installing the package to build vignettes
* creating vignettes ... OK
* checking for LF line-endings in source and make files and shell scripts
* checking for empty or unneeded directories
* building ‘topdownr_1.14.0.tar.gz’