Back to Multiple platform build/check report for BioC 3.13
ABCDEFGHIJKLMNOPQRS[T]UVWXYZ

This page was generated on 2021-08-02 15:05:02 -0400 (Mon, 02 Aug 2021).

CHECK results for topGO on nebbiolo1

To the developers/maintainers of the topGO package:
- Please allow up to 24 hours (and sometimes 48 hours) for your latest push to git@git.bioconductor.org:packages/topGO.git to
reflect on this report. See How and When does the builder pull? When will my changes propagate? here for more information.
- Make sure to use the following settings in order to reproduce any error or warning you see on this page.

raw results

Package 1937/2041HostnameOS / ArchINSTALLBUILDCHECKBUILD BIN
topGO 2.44.0  (landing page)
Adrian Alexa
Snapshot Date: 2021-08-01 04:50:10 -0400 (Sun, 01 Aug 2021)
URL: https://git.bioconductor.org/packages/topGO
Branch: RELEASE_3_13
Last Commit: d907c12
Last Changed Date: 2021-05-19 11:38:47 -0400 (Wed, 19 May 2021)
nebbiolo1Linux (Ubuntu 20.04.2 LTS) / x86_64  OK    OK    OK  UNNEEDED, same version is already published
tokay2Windows Server 2012 R2 Standard / x64  OK    OK    OK    OK  UNNEEDED, same version is already published
machv2macOS 10.14.6 Mojave / x86_64  OK    OK    OK    OK  UNNEEDED, same version is already published

Summary

Package: topGO
Version: 2.44.0
Command: /home/biocbuild/bbs-3.13-bioc/R/bin/R CMD check --install=check:topGO.install-out.txt --library=/home/biocbuild/bbs-3.13-bioc/R/library --no-vignettes --timings topGO_2.44.0.tar.gz
StartedAt: 2021-08-01 11:50:00 -0400 (Sun, 01 Aug 2021)
EndedAt: 2021-08-01 11:51:56 -0400 (Sun, 01 Aug 2021)
EllapsedTime: 116.6 seconds
RetCode: 0
Status:   OK  
CheckDir: topGO.Rcheck
Warnings: 0

Command output

##############################################################################
##############################################################################
###
### Running command:
###
###   /home/biocbuild/bbs-3.13-bioc/R/bin/R CMD check --install=check:topGO.install-out.txt --library=/home/biocbuild/bbs-3.13-bioc/R/library --no-vignettes --timings topGO_2.44.0.tar.gz
###
##############################################################################
##############################################################################


* using log directory ‘/home/biocbuild/bbs-3.13-bioc/meat/topGO.Rcheck’
* using R version 4.1.0 (2021-05-18)
* using platform: x86_64-pc-linux-gnu (64-bit)
* using session charset: UTF-8
* using option ‘--no-vignettes’
* checking for file ‘topGO/DESCRIPTION’ ... OK
* checking extension type ... Package
* this is package ‘topGO’ version ‘2.44.0’
* checking package namespace information ... OK
* checking package dependencies ... NOTE
Depends: includes the non-default packages:
  'BiocGenerics', 'graph', 'Biobase', 'GO.db', 'AnnotationDbi',
  'SparseM'
Adding so many packages to the search path is excessive and importing
selectively is preferable.
* checking if this is a source package ... OK
* checking if there is a namespace ... OK
* checking for hidden files and directories ... OK
* checking for portable file names ... OK
* checking for sufficient/correct file permissions ... OK
* checking whether package ‘topGO’ can be installed ... OK
* checking installed package size ... OK
* checking package directory ... OK
* checking ‘build’ directory ... OK
* checking DESCRIPTION meta-information ... OK
* checking top-level files ... OK
* checking for left-over files ... OK
* checking index information ... OK
* checking package subdirectories ... OK
* checking R files for non-ASCII characters ... OK
* checking R files for syntax errors ... OK
* checking whether the package can be loaded ... OK
* checking whether the package can be loaded with stated dependencies ... OK
* checking whether the package can be unloaded cleanly ... OK
* checking whether the namespace can be loaded with stated dependencies ... OK
* checking whether the namespace can be unloaded cleanly ... OK
* checking dependencies in R code ... NOTE
'library' or 'require' calls in package code:
  ‘Rgraphviz’ ‘multtest’
  Please use :: or requireNamespace() instead.
  See section 'Suggested packages' in the 'Writing R Extensions' manual.
Missing object imported by a ':::' call: ‘globaltest:::globaltest’
* checking S3 generic/method consistency ... OK
* checking replacement functions ... OK
* checking foreign function calls ... OK
* checking R code for possible problems ... NOTE
GOplot: no visible global function definition for ‘getDefaultAttrs’
GOplot: no visible global function definition for ‘agopen’
GOplot.counts : plotSigChart : buildDrawing : <anonymous>: no visible
  global function definition for ‘getNodeCenter’
GOplot.counts : plotSigChart : buildDrawing : <anonymous>: no visible
  global function definition for ‘pieGlyph’
GOplot.counts : plotSigChart : buildDrawing : <anonymous>: no visible
  global function definition for ‘getX’
GOplot.counts : plotSigChart : buildDrawing : <anonymous>: no visible
  global function definition for ‘getY’
GOplot.counts : plotSigChart : buildDrawing : <anonymous>: no visible
  global function definition for ‘getNodeLW’
GOplot.counts : plotSigChart : buildDrawing : <anonymous>: no visible
  global function definition for ‘drawTxtLabel’
GOplot.counts : plotSigChart : buildDrawing : <anonymous>: no visible
  global function definition for ‘txtLabel’
GOplot.counts : plotSigChart: no visible global function definition for
  ‘AgNode’
GOplot.counts : plotSigChart : <anonymous>: no visible global function
  definition for ‘name’
GOplot.counts : plotSigChart : <anonymous>: no visible global function
  definition for ‘getNodeCenter’
GOplot.counts : plotSigChart: no visible global function definition for
  ‘getNodeXY’
GOplot.counts : plotSigChart: no visible global function definition for
  ‘getY’
GOplot.counts: no visible global function definition for
  ‘getDefaultAttrs’
GOplot.counts: no visible global function definition for ‘agopen’
getPvalues: no visible global function definition for ‘mt.teststat’
getPvalues: no visible global function definition for ‘mt.rawp2adjp’
printDOT: no visible global function definition for ‘getDefaultAttrs’
printDOT: no visible global function definition for ‘toDot’
GOSumTest,classicScore: no visible binding for global variable
  ‘.PERMSUM.MAT’
GOSumTest,classicScore: no visible binding for global variable
  ‘.PERMSUM.LOOKUP’
initialize,classicExpr: no visible global function definition for
  ‘error’
scoresInTerm,topGOdata-missing: no visible global function definition
  for ‘scoreInNode’
Undefined global functions or variables:
  .PERMSUM.LOOKUP .PERMSUM.MAT AgNode agopen drawTxtLabel error
  getDefaultAttrs getNodeCenter getNodeLW getNodeXY getX getY
  mt.rawp2adjp mt.teststat name pieGlyph scoreInNode toDot txtLabel
* checking Rd files ... OK
* checking Rd metadata ... OK
* checking Rd cross-references ... OK
* checking for missing documentation entries ... OK
* checking for code/documentation mismatches ... OK
* checking Rd \usage sections ... OK
* checking Rd contents ... OK
* checking for unstated dependencies in examples ... OK
* checking contents of ‘data’ directory ... OK
* checking data for non-ASCII characters ... OK
* checking data for ASCII and uncompressed saves ... OK
* checking files in ‘vignettes’ ... OK
* checking examples ... OK
* checking for unstated dependencies in vignettes ... OK
* checking package vignettes in ‘inst/doc’ ... OK
* checking running R code from vignettes ... SKIPPED
* checking re-building of vignette outputs ... SKIPPED
* checking PDF version of manual ... OK
* DONE

Status: 3 NOTEs
See
  ‘/home/biocbuild/bbs-3.13-bioc/meat/topGO.Rcheck/00check.log’
for details.



Installation output

topGO.Rcheck/00install.out

##############################################################################
##############################################################################
###
### Running command:
###
###   /home/biocbuild/bbs-3.13-bioc/R/bin/R CMD INSTALL topGO
###
##############################################################################
##############################################################################


* installing to library ‘/home/biocbuild/bbs-3.13-bioc/R/library’
* installing *source* package ‘topGO’ ...
** using staged installation
** R
** data
** inst
** byte-compile and prepare package for lazy loading
** help
*** installing help indices
** building package indices
** installing vignettes
** testing if installed package can be loaded from temporary location

groupGOTerms: 	GOBPTerm, GOMFTerm, GOCCTerm environments built.
** testing if installed package can be loaded from final location

groupGOTerms: 	GOBPTerm, GOMFTerm, GOCCTerm environments built.
** testing if installed package keeps a record of temporary installation path
* DONE (topGO)

Tests output


Example timings

topGO.Rcheck/topGO-Ex.timings

nameusersystemelapsed
GOdata0.0340.0000.035
annFUN0.7410.0580.799
classicCount-class000
classicExpr-class0.0010.0000.001
classicScore-class0.0000.0020.002
dagFunctions000
diagnosticMethods0.2340.0000.234
elimExpr-class0.0000.0010.001
elimScore-class0.0000.0010.000
geneList0.0010.0020.002
getPvalues3.7940.0843.878
getSigGroups2.1510.1592.310
groupGOTerms0.2610.0080.268
inducedGraph0.0330.0000.033
parentChild-class0.0010.0000.002
printGraph-methods0.0000.0000.001
topGOdata-class4.0850.1204.205
topGOresult-class0.0280.0000.027