Back to Multiple platform build/check report for BioC 3.13
ABCDEFGHIJKLMNOPQRS[T]UVWXYZ

This page was generated on 2021-09-15 15:05:49 -0400 (Wed, 15 Sep 2021).

INSTALL results for tenXplore on tokay2

To the developers/maintainers of the tenXplore package:
- Please allow up to 24 hours (and sometimes 48 hours) for your latest push to git@git.bioconductor.org:packages/tenXplore.git to
reflect on this report. See How and When does the builder pull? When will my changes propagate? here for more information.
- Make sure to use the following settings in order to reproduce any error or warning you see on this page.

raw results

Package 1904/2041HostnameOS / ArchINSTALLBUILDCHECKBUILD BIN
tenXplore 1.14.2  (landing page)
VJ Carey
Snapshot Date: 2021-09-14 04:50:06 -0400 (Tue, 14 Sep 2021)
git_url: https://git.bioconductor.org/packages/tenXplore
git_branch: RELEASE_3_13
git_last_commit: bd72b38
git_last_commit_date: 2021-09-11 14:39:10 -0400 (Sat, 11 Sep 2021)
nebbiolo1Linux (Ubuntu 20.04.2 LTS) / x86_64  OK    OK    OK  UNNEEDED, same version is already published
tokay2Windows Server 2012 R2 Standard / x64  OK    OK    OK    OK  UNNEEDED, same version is already published
machv2macOS 10.14.6 Mojave / x86_64  OK    OK    OK    OK  UNNEEDED, same version is already published

Summary

Package: tenXplore
Version: 1.14.2
Command: C:\cygwin\bin\curl.exe -O http://155.52.207.165/BBS/3.13/bioc/src/contrib/tenXplore_1.14.2.tar.gz && rm -rf tenXplore.buildbin-libdir && mkdir tenXplore.buildbin-libdir && C:\Users\biocbuild\bbs-3.13-bioc\R\bin\R.exe CMD INSTALL --merge-multiarch --build --library=tenXplore.buildbin-libdir tenXplore_1.14.2.tar.gz && C:\Users\biocbuild\bbs-3.13-bioc\R\bin\R.exe CMD INSTALL tenXplore_1.14.2.zip && rm tenXplore_1.14.2.tar.gz tenXplore_1.14.2.zip
StartedAt: 2021-09-14 08:36:39 -0400 (Tue, 14 Sep 2021)
EndedAt: 2021-09-14 08:37:29 -0400 (Tue, 14 Sep 2021)
EllapsedTime: 49.9 seconds
RetCode: 0
Status:   OK  

Command output

##############################################################################
##############################################################################
###
### Running command:
###
###   C:\cygwin\bin\curl.exe -O http://155.52.207.165/BBS/3.13/bioc/src/contrib/tenXplore_1.14.2.tar.gz && rm -rf tenXplore.buildbin-libdir && mkdir tenXplore.buildbin-libdir && C:\Users\biocbuild\bbs-3.13-bioc\R\bin\R.exe CMD INSTALL --merge-multiarch --build --library=tenXplore.buildbin-libdir tenXplore_1.14.2.tar.gz && C:\Users\biocbuild\bbs-3.13-bioc\R\bin\R.exe CMD INSTALL tenXplore_1.14.2.zip && rm tenXplore_1.14.2.tar.gz tenXplore_1.14.2.zip
###
##############################################################################
##############################################################################


  % Total    % Received % Xferd  Average Speed   Time    Time     Time  Current
                                 Dload  Upload   Total   Spent    Left  Speed

  0     0    0     0    0     0      0      0 --:--:-- --:--:-- --:--:--     0
  0     0    0     0    0     0      0      0 --:--:-- --:--:-- --:--:--     0
 81 1993k   81 1615k    0     0  1560k      0  0:00:01  0:00:01 --:--:-- 1560k
100 1993k  100 1993k    0     0  1685k      0  0:00:01  0:00:01 --:--:-- 1684k

install for i386

Warning in untar2(tarfile, files, list, exdir, restore_times) :
  failed to copy 'tenXplore/vignettes/dashboard.png' to 'tenXplore/dashboard.png'
Warning in untar2(tarfile, files, list, exdir, restore_times) :
  restoring symbolic link as a file copy
* installing *source* package 'tenXplore' ...
** using staged installation
** R
** data
** inst
** byte-compile and prepare package for lazy loading
** help
*** installing help indices
  converting help for package 'tenXplore'
    finding HTML links ... done
    CellTypes                               html  
    tenXplore                               html  
    tenx500                                 html  
** building package indices
** installing vignettes
** testing if installed package can be loaded from temporary location
** testing if installed package can be loaded from final location
** testing if installed package keeps a record of temporary installation path

install for x64

Warning in untar2(tarfile, files, list, exdir, restore_times) :
  failed to copy 'tenXplore/vignettes/dashboard.png' to 'tenXplore/dashboard.png'
Warning in untar2(tarfile, files, list, exdir, restore_times) :
  restoring symbolic link as a file copy
* installing *source* package 'tenXplore' ...
** testing if installed package can be loaded
* MD5 sums
packaged installation of 'tenXplore' as tenXplore_1.14.2.zip
* DONE (tenXplore)
* installing to library 'C:/Users/biocbuild/bbs-3.13-bioc/R/library'
package 'tenXplore' successfully unpacked and MD5 sums checked