Back to Multiple platform build/check report for BioC 3.13
ABCDEFGHIJKLMNOPQRS[T]UVWXYZ

This page was generated on 2021-09-15 15:04:56 -0400 (Wed, 15 Sep 2021).

All results for package tenXplore

To the developers/maintainers of the tenXplore package:
- Please allow up to 24 hours (and sometimes 48 hours) for your latest push to git@git.bioconductor.org:packages/tenXplore.git to
reflect on this report. See How and When does the builder pull? When will my changes propagate? here for more information.
- Make sure to use the following settings in order to reproduce any error or warning you see on this page.

raw results

Package 1904/2041HostnameOS / ArchINSTALLBUILDCHECKBUILD BIN
tenXplore 1.14.2  (landing page)
VJ Carey
Snapshot Date: 2021-09-14 04:50:06 -0400 (Tue, 14 Sep 2021)
git_url: https://git.bioconductor.org/packages/tenXplore
git_branch: RELEASE_3_13
git_last_commit: bd72b38
git_last_commit_date: 2021-09-11 14:39:10 -0400 (Sat, 11 Sep 2021)
nebbiolo1Linux (Ubuntu 20.04.2 LTS) / x86_64  OK    OK    OK  UNNEEDED, same version is already published
tokay2Windows Server 2012 R2 Standard / x64  OK    OK    OK    OK  UNNEEDED, same version is already published
machv2macOS 10.14.6 Mojave / x86_64  OK    OK    OK    OK  UNNEEDED, same version is already published