Back to Multiple platform build/check report for BioC 3.13
ABCDEFGHIJKLMNOPQR[S]TUVWXYZ

This page was generated on 2021-06-17 02:38:11 -0400 (Thu, 17 Jun 2021).

All results for package srnadiff

To the developers/maintainers of the srnadiff package:
- Please allow up to 24 hours (and sometimes 48 hours) for your latest push to git@git.bioconductor.org:packages/srnadiff.git to
reflect on this report. See How and When does the builder pull? When will my changes propagate? here for more information.
- Make sure to use the following settings in order to reproduce any error or warning you see on this page.

raw results

Package 1842/2041HostnameOS / ArchINSTALLBUILDCHECKBUILD BIN
srnadiff 1.12.2  (landing page)
Zytnicki Matthias
Snapshot Date: 2021-06-15 06:50:12 -0400 (Tue, 15 Jun 2021)
URL: https://git.bioconductor.org/packages/srnadiff
Branch: RELEASE_3_13
Last Commit: 21bcbca
Last Changed Date: 2021-06-02 10:17:41 -0400 (Wed, 02 Jun 2021)
nebbiolo1Linux (Ubuntu 20.04.2 LTS) / x86_64  OK    OK    OK  UNNEEDED, same version is already published
tokay2Windows Server 2012 R2 Standard / x64  OK    OK    TIMEOUT    OK  
machv2macOS 10.14.6 Mojave / x86_64  OK    OK    OK    OK  UNNEEDED, same version is already published