Index of /checkResults/release/bioc-LATEST/snpStats/raw-results/tokay2

[ICO]NameLast modifiedSizeDescription

[DIR]Parent Directory  -  
[TXT]buildbin-out.txt16-Oct-2021 04:06 27K 
[   ]buildbin-summary.dcf16-Oct-2021 04:06 545  
[TXT]buildsrc-out.txt16-Oct-2021 04:06 1.0K 
[   ]buildsrc-summary.dcf16-Oct-2021 04:06 462  
[TXT]checksrc-out.txt16-Oct-2021 04:06 6.1K 
[   ]checksrc-summary.dcf16-Oct-2021 04:06 472  
[TXT]install-out.txt16-Oct-2021 04:06 28K 
[   ]install-summary.dcf16-Oct-2021 04:06 650