Index of /checkResults/release/bioc-LATEST/snpStats/raw-results/nebbiolo1

[ICO]NameLast modifiedSizeDescription

[DIR]Parent Directory  -  
[TXT]buildsrc-out.txt16-Oct-2021 04:05 935  
[   ]buildsrc-summary.dcf16-Oct-2021 04:05 420  
[TXT]checksrc-out.txt16-Oct-2021 04:05 4.8K 
[   ]checksrc-summary.dcf16-Oct-2021 04:05 433  
[TXT]install-out.txt16-Oct-2021 04:05 11K 
[   ]install-summary.dcf16-Oct-2021 04:05 261