Index of /checkResults/release/bioc-LATEST/snpStats/raw-results/machv2

[ICO]NameLast modifiedSizeDescription

[DIR]Parent Directory  -  
[TXT]buildbin-out.txt16-Oct-2021 04:06 8.7K 
[   ]buildbin-summary.dcf16-Oct-2021 04:06 553  
[TXT]buildsrc-out.txt16-Oct-2021 04:06 962  
[   ]buildsrc-summary.dcf16-Oct-2021 04:06 447  
[TXT]checksrc-out.txt16-Oct-2021 04:06 4.5K 
[   ]checksrc-summary.dcf16-Oct-2021 04:06 481  
[TXT]install-out.txt16-Oct-2021 04:06 7.9K 
[   ]install-summary.dcf16-Oct-2021 04:06 288