Back to Multiple platform build/check report for BioC 3.13
ABCDEFGHIJKLMNOPQR[S]TUVWXYZ

This page was generated on 2021-09-20 15:05:58 -0400 (Mon, 20 Sep 2021).

BUILD results for snpStats on machv2

To the developers/maintainers of the snpStats package:
- Please allow up to 24 hours (and sometimes 48 hours) for your latest push to git@git.bioconductor.org:packages/snpStats.git to
reflect on this report. See How and When does the builder pull? When will my changes propagate? here for more information.
- Make sure to use the following settings in order to reproduce any error or warning you see on this page.

raw results

Package 1803/2041HostnameOS / ArchINSTALLBUILDCHECKBUILD BIN
snpStats 1.42.0  (landing page)
David Clayton
Snapshot Date: 2021-09-19 04:50:10 -0400 (Sun, 19 Sep 2021)
git_url: https://git.bioconductor.org/packages/snpStats
git_branch: RELEASE_3_13
git_last_commit: 93cc0eb
git_last_commit_date: 2021-05-19 11:40:26 -0400 (Wed, 19 May 2021)
nebbiolo1Linux (Ubuntu 20.04.2 LTS) / x86_64  OK    OK    WARNINGS  UNNEEDED, same version is already published
tokay2Windows Server 2012 R2 Standard / x64  OK    OK    WARNINGS    OK  UNNEEDED, same version is already published
machv2macOS 10.14.6 Mojave / x86_64  OK    OK    OK    OK  UNNEEDED, same version is already published

Summary

Package: snpStats
Version: 1.42.0
Command: /Library/Frameworks/R.framework/Versions/Current/Resources/bin/R CMD build --keep-empty-dirs --no-resave-data snpStats
StartedAt: 2021-09-19 14:59:33 -0400 (Sun, 19 Sep 2021)
EndedAt: 2021-09-19 15:01:03 -0400 (Sun, 19 Sep 2021)
EllapsedTime: 90.3 seconds
RetCode: 0
Status:   OK  
PackageFile: snpStats_1.42.0.tar.gz
PackageFileSize: 6.974 MiB

Command output

##############################################################################
##############################################################################
###
### Running command:
###
###   /Library/Frameworks/R.framework/Versions/Current/Resources/bin/R CMD build --keep-empty-dirs --no-resave-data snpStats
###
##############################################################################
##############################################################################


* checking for file ‘snpStats/DESCRIPTION’ ... OK
* preparing ‘snpStats’:
* checking DESCRIPTION meta-information ... OK
* cleaning src
* installing the package to process help pages
* saving partial Rd database
* creating vignettes ... OK
* cleaning src
* checking for LF line-endings in source and make files and shell scripts
* checking for empty or unneeded directories
* looking to see if a ‘data/datalist’ file should be added
* building ‘snpStats_1.42.0.tar.gz’