Back to Multiple platform build/check report for BioC 3.13
ABCDEFGHIJKLMNOPQR[S]TUVWXYZ

This page was generated on 2021-09-17 15:06:55 -0400 (Fri, 17 Sep 2021).

BUILD BIN results for snpStats on machv2

To the developers/maintainers of the snpStats package:
- Please allow up to 24 hours (and sometimes 48 hours) for your latest push to git@git.bioconductor.org:packages/snpStats.git to
reflect on this report. See How and When does the builder pull? When will my changes propagate? here for more information.
- Make sure to use the following settings in order to reproduce any error or warning you see on this page.

raw results

Package 1803/2041HostnameOS / ArchINSTALLBUILDCHECKBUILD BIN
snpStats 1.42.0  (landing page)
David Clayton
Snapshot Date: 2021-09-16 04:50:11 -0400 (Thu, 16 Sep 2021)
git_url: https://git.bioconductor.org/packages/snpStats
git_branch: RELEASE_3_13
git_last_commit: 93cc0eb
git_last_commit_date: 2021-05-19 11:40:26 -0400 (Wed, 19 May 2021)
nebbiolo1Linux (Ubuntu 20.04.2 LTS) / x86_64  OK    OK    WARNINGS  UNNEEDED, same version is already published
tokay2Windows Server 2012 R2 Standard / x64  OK    OK    WARNINGS    OK  UNNEEDED, same version is already published
machv2macOS 10.14.6 Mojave / x86_64  OK    OK    OK    OK  UNNEEDED, same version is already published

Summary

Package: snpStats
Version: 1.42.0
Command: rm -rf snpStats.buildbin-libdir && mkdir snpStats.buildbin-libdir && /Users/biocbuild/BBS/utils/build-universal.sh snpStats_1.42.0.tar.gz /Library/Frameworks/R.framework/Versions/Current/Resources/bin/R snpStats.buildbin-libdir
StartedAt: 2021-09-17 04:12:16 -0400 (Fri, 17 Sep 2021)
EndedAt: 2021-09-17 04:13:25 -0400 (Fri, 17 Sep 2021)
EllapsedTime: 69.0 seconds
RetCode: 0
Status:   OK  
PackageFile: snpStats_1.42.0.tgz
PackageFileSize: 7.782 MiB

Command output

##############################################################################
##############################################################################
###
### Running command:
###
###   rm -rf snpStats.buildbin-libdir && mkdir snpStats.buildbin-libdir && /Users/biocbuild/BBS/utils/build-universal.sh snpStats_1.42.0.tar.gz /Library/Frameworks/R.framework/Versions/Current/Resources/bin/R snpStats.buildbin-libdir
###
##############################################################################
##############################################################################


>>>>>>> 
>>>>>>> INSTALLATION WITH 'R CMD INSTALL --preclean --no-multiarch --library=snpStats.buildbin-libdir snpStats_1.42.0.tar.gz'
>>>>>>> 

* installing *source* package ‘snpStats’ ...
** using staged installation
** libs
clang -mmacosx-version-min=10.13 -I"/Library/Frameworks/R.framework/Resources/include" -DNDEBUG   -I/usr/local/include   -fPIC  -Wall -g -O2  -c Runcertain.c -o Runcertain.o
clang -mmacosx-version-min=10.13 -I"/Library/Frameworks/R.framework/Resources/include" -DNDEBUG   -I/usr/local/include   -fPIC  -Wall -g -O2  -c bind.c -o bind.o
clang -mmacosx-version-min=10.13 -I"/Library/Frameworks/R.framework/Resources/include" -DNDEBUG   -I/usr/local/include   -fPIC  -Wall -g -O2  -c count_gt.c -o count_gt.o
clang -mmacosx-version-min=10.13 -I"/Library/Frameworks/R.framework/Resources/include" -DNDEBUG   -I/usr/local/include   -fPIC  -Wall -g -O2  -c covwin.c -o covwin.o
clang -mmacosx-version-min=10.13 -I"/Library/Frameworks/R.framework/Resources/include" -DNDEBUG   -I/usr/local/include   -fPIC  -Wall -g -O2  -c force_hom.c -o force_hom.o
clang -mmacosx-version-min=10.13 -I"/Library/Frameworks/R.framework/Resources/include" -DNDEBUG   -I/usr/local/include   -fPIC  -Wall -g -O2  -c fst.c -o fst.o
clang -mmacosx-version-min=10.13 -I"/Library/Frameworks/R.framework/Resources/include" -DNDEBUG   -I/usr/local/include   -fPIC  -Wall -g -O2  -c glm_test.c -o glm_test.o
clang -mmacosx-version-min=10.13 -I"/Library/Frameworks/R.framework/Resources/include" -DNDEBUG   -I/usr/local/include   -fPIC  -Wall -g -O2  -c glm_test_R.c -o glm_test_R.o
glm_test_R.c:368:7: warning: unused variable 'max_name_length' [-Wunused-variable]
  int max_name_length =  MAX_NAME_LENGTH -1;
      ^
1 warning generated.
clang -mmacosx-version-min=10.13 -I"/Library/Frameworks/R.framework/Resources/include" -DNDEBUG   -I/usr/local/include   -fPIC  -Wall -g -O2  -c hash_index.c -o hash_index.o
clang -mmacosx-version-min=10.13 -I"/Library/Frameworks/R.framework/Resources/include" -DNDEBUG   -I/usr/local/include   -fPIC  -Wall -g -O2  -c hphase.c -o hphase.o
clang -mmacosx-version-min=10.13 -I"/Library/Frameworks/R.framework/Resources/include" -DNDEBUG   -I/usr/local/include   -fPIC  -Wall -g -O2  -c imputation.c -o imputation.o
clang -mmacosx-version-min=10.13 -I"/Library/Frameworks/R.framework/Resources/include" -DNDEBUG   -I/usr/local/include   -fPIC  -Wall -g -O2  -c in.c -o in.o
clang -mmacosx-version-min=10.13 -I"/Library/Frameworks/R.framework/Resources/include" -DNDEBUG   -I/usr/local/include   -fPIC  -Wall -g -O2  -c input.c -o input.o
clang -mmacosx-version-min=10.13 -I"/Library/Frameworks/R.framework/Resources/include" -DNDEBUG   -I/usr/local/include   -fPIC  -Wall -g -O2  -c invert.c -o invert.o
clang -mmacosx-version-min=10.13 -I"/Library/Frameworks/R.framework/Resources/include" -DNDEBUG   -I/usr/local/include   -fPIC  -Wall -g -O2  -c ipf.c -o ipf.o
clang -mmacosx-version-min=10.13 -I"/Library/Frameworks/R.framework/Resources/include" -DNDEBUG   -I/usr/local/include   -fPIC  -Wall -g -O2  -c ld.c -o ld.o
clang -mmacosx-version-min=10.13 -I"/Library/Frameworks/R.framework/Resources/include" -DNDEBUG   -I/usr/local/include   -fPIC  -Wall -g -O2  -c misc.c -o misc.o
clang -mmacosx-version-min=10.13 -I"/Library/Frameworks/R.framework/Resources/include" -DNDEBUG   -I/usr/local/include   -fPIC  -Wall -g -O2  -c mla.c -o mla.o
clang -mmacosx-version-min=10.13 -I"/Library/Frameworks/R.framework/Resources/include" -DNDEBUG   -I/usr/local/include   -fPIC  -Wall -g -O2  -c mvphenotype.c -o mvphenotype.o
mvphenotype.c:568:7: warning: variable 'df_rV' is uninitialized when used here [-Wuninitialized]
        Free(df_rV);
             ^~~~~
/Library/Frameworks/R.framework/Resources/include/R_ext/RS.h:74:46: note: expanded from macro 'Free'
#define Free(p)        (R_chk_free( (void *)(p) ), (p) = NULL)
                                             ^
mvphenotype.c:486:20: note: initialize the variable 'df_rV' to silence this warning
      double *df_rV; 
                   ^
                    = NULL
1 warning generated.
clang -mmacosx-version-min=10.13 -I"/Library/Frameworks/R.framework/Resources/include" -DNDEBUG   -I/usr/local/include   -fPIC  -Wall -g -O2  -c outdata.c -o outdata.o
clang -mmacosx-version-min=10.13 -I"/Library/Frameworks/R.framework/Resources/include" -DNDEBUG   -I/usr/local/include   -fPIC  -Wall -g -O2  -c plink.c -o plink.o
clang -mmacosx-version-min=10.13 -I"/Library/Frameworks/R.framework/Resources/include" -DNDEBUG   -I/usr/local/include   -fPIC  -Wall -g -O2  -c read_uncertain.c -o read_uncertain.o
clang -mmacosx-version-min=10.13 -I"/Library/Frameworks/R.framework/Resources/include" -DNDEBUG   -I/usr/local/include   -fPIC  -Wall -g -O2  -c readped.c -o readped.o
clang -mmacosx-version-min=10.13 -I"/Library/Frameworks/R.framework/Resources/include" -DNDEBUG   -I/usr/local/include   -fPIC  -Wall -g -O2  -c single_snp_tests.c -o single_snp_tests.o
clang -mmacosx-version-min=10.13 -I"/Library/Frameworks/R.framework/Resources/include" -DNDEBUG   -I/usr/local/include   -fPIC  -Wall -g -O2  -c snp_summary.c -o snp_summary.o
clang -mmacosx-version-min=10.13 -I"/Library/Frameworks/R.framework/Resources/include" -DNDEBUG   -I/usr/local/include   -fPIC  -Wall -g -O2  -c snpmpy.c -o snpmpy.o
clang -mmacosx-version-min=10.13 -I"/Library/Frameworks/R.framework/Resources/include" -DNDEBUG   -I/usr/local/include   -fPIC  -Wall -g -O2  -c solve_cubic.c -o solve_cubic.o
clang -mmacosx-version-min=10.13 -I"/Library/Frameworks/R.framework/Resources/include" -DNDEBUG   -I/usr/local/include   -fPIC  -Wall -g -O2  -c structure.c -o structure.o
clang -mmacosx-version-min=10.13 -I"/Library/Frameworks/R.framework/Resources/include" -DNDEBUG   -I/usr/local/include   -fPIC  -Wall -g -O2  -c subset.c -o subset.o
clang -mmacosx-version-min=10.13 -I"/Library/Frameworks/R.framework/Resources/include" -DNDEBUG   -I/usr/local/include   -fPIC  -Wall -g -O2  -c switch.c -o switch.o
clang -mmacosx-version-min=10.13 -I"/Library/Frameworks/R.framework/Resources/include" -DNDEBUG   -I/usr/local/include   -fPIC  -Wall -g -O2  -c tdt.c -o tdt.o
clang -mmacosx-version-min=10.13 -I"/Library/Frameworks/R.framework/Resources/include" -DNDEBUG   -I/usr/local/include   -fPIC  -Wall -g -O2  -c testBig.c -o testBig.o
clang -mmacosx-version-min=10.13 -I"/Library/Frameworks/R.framework/Resources/include" -DNDEBUG   -I/usr/local/include   -fPIC  -Wall -g -O2  -c uncertain.c -o uncertain.o
clang -mmacosx-version-min=10.13 -dynamiclib -Wl,-headerpad_max_install_names -undefined dynamic_lookup -single_module -multiply_defined suppress -L/Library/Frameworks/R.framework/Resources/lib -L/usr/local/lib -o snpStats.so Runcertain.o bind.o count_gt.o covwin.o force_hom.o fst.o glm_test.o glm_test_R.o hash_index.o hphase.o imputation.o in.o input.o invert.o ipf.o ld.o misc.o mla.o mvphenotype.o outdata.o plink.o read_uncertain.o readped.o single_snp_tests.o snp_summary.o snpmpy.o solve_cubic.o structure.o subset.o switch.o tdt.o testBig.o uncertain.o -lz -F/Library/Frameworks/R.framework/.. -framework R -Wl,-framework -Wl,CoreFoundation
installing to /Users/biocbuild/bbs-3.13-bioc/meat/snpStats.buildbin-libdir/00LOCK-snpStats/00new/snpStats/libs
** R
** data
** inst
** byte-compile and prepare package for lazy loading
** help
*** installing help indices
** building package indices
** installing vignettes
** testing if installed package can be loaded from temporary location
** checking absolute paths in shared objects and dynamic libraries
** testing if installed package can be loaded from final location
** testing if installed package keeps a record of temporary installation path
* DONE (snpStats)


>>>>>>> 
>>>>>>> FIXING LINKS FOR snpStats.buildbin-libdir/snpStats/libs/snpStats.so
>>>>>>> 

install_name_tool -change "/usr/local/lib/libgcc_s.1.dylib" "/Library/Frameworks/R.framework/Versions/4.1/Resources/lib/libgcc_s.1.dylib" "snpStats.buildbin-libdir/snpStats/libs/snpStats.so"
install_name_tool -change "/usr/local/lib/libgfortran.5.dylib" "/Library/Frameworks/R.framework/Versions/4.1/Resources/lib/libgfortran.5.dylib" "snpStats.buildbin-libdir/snpStats/libs/snpStats.so"
install_name_tool -change "/usr/local/lib/libquadmath.0.dylib" "/Library/Frameworks/R.framework/Versions/4.1/Resources/lib/libquadmath.0.dylib" "snpStats.buildbin-libdir/snpStats/libs/snpStats.so"