Back to Multiple platform build/check report for BioC 3.13
ABCDEFGHIJKLMNOPQR[S]TUVWXYZ

This page was generated on 2021-07-23 15:06:21 -0400 (Fri, 23 Jul 2021).

INSTALL results for sesame on tokay2

To the developers/maintainers of the sesame package:
- Please allow up to 24 hours (and sometimes 48 hours) for your latest push to git@git.bioconductor.org:packages/sesame.git to
reflect on this report. See How and When does the builder pull? When will my changes propagate? here for more information.
- Make sure to use the following settings in order to reproduce any error or warning you see on this page.

raw results

Package 1745/2041HostnameOS / ArchINSTALLBUILDCHECKBUILD BIN
sesame 1.10.4  (landing page)
Wanding Zhou
Snapshot Date: 2021-07-22 04:50:13 -0400 (Thu, 22 Jul 2021)
URL: https://git.bioconductor.org/packages/sesame
Branch: RELEASE_3_13
Last Commit: 323ca39
Last Changed Date: 2021-06-03 16:32:54 -0400 (Thu, 03 Jun 2021)
nebbiolo1Linux (Ubuntu 20.04.2 LTS) / x86_64  OK    OK    OK  UNNEEDED, same version is already published
tokay2Windows Server 2012 R2 Standard / x64  OK    OK    OK    OK  UNNEEDED, same version is already published
machv2macOS 10.14.6 Mojave / x86_64  OK    OK    OK    OK  UNNEEDED, same version is already published

Summary

Package: sesame
Version: 1.10.4
Command: C:\cygwin\bin\curl.exe -O http://155.52.207.165/BBS/3.13/bioc/src/contrib/sesame_1.10.4.tar.gz && rm -rf sesame.buildbin-libdir && mkdir sesame.buildbin-libdir && C:\Users\biocbuild\bbs-3.13-bioc\R\bin\R.exe CMD INSTALL --merge-multiarch --build --library=sesame.buildbin-libdir sesame_1.10.4.tar.gz && C:\Users\biocbuild\bbs-3.13-bioc\R\bin\R.exe CMD INSTALL sesame_1.10.4.zip && rm sesame_1.10.4.tar.gz sesame_1.10.4.zip
StartedAt: 2021-07-22 09:23:07 -0400 (Thu, 22 Jul 2021)
EndedAt: 2021-07-22 09:24:32 -0400 (Thu, 22 Jul 2021)
EllapsedTime: 84.9 seconds
RetCode: 0
Status:   OK  

Command output

##############################################################################
##############################################################################
###
### Running command:
###
###   C:\cygwin\bin\curl.exe -O http://155.52.207.165/BBS/3.13/bioc/src/contrib/sesame_1.10.4.tar.gz && rm -rf sesame.buildbin-libdir && mkdir sesame.buildbin-libdir && C:\Users\biocbuild\bbs-3.13-bioc\R\bin\R.exe CMD INSTALL --merge-multiarch --build --library=sesame.buildbin-libdir sesame_1.10.4.tar.gz && C:\Users\biocbuild\bbs-3.13-bioc\R\bin\R.exe CMD INSTALL sesame_1.10.4.zip && rm sesame_1.10.4.tar.gz sesame_1.10.4.zip
###
##############################################################################
##############################################################################


  % Total    % Received % Xferd  Average Speed   Time    Time     Time  Current
                                 Dload  Upload   Total   Spent    Left  Speed

  0     0    0     0    0     0      0      0 --:--:-- --:--:-- --:--:--     0
100  134k  100  134k    0     0  1069k      0 --:--:-- --:--:-- --:--:-- 1079k

install for i386

* installing *source* package 'sesame' ...
** using staged installation
** R
** inst
** byte-compile and prepare package for lazy loading
** help
*** installing help indices
  converting help for package 'sesame'
    finding HTML links ... done
    BetaValueToMValue                       html  
    DML                                     html  
    DMLShrinkage                            html  
    DMR                                     html  
    IG-methods                              html  
    IG-replace-methods                      html  
REDIRECT:topic	 IG<- -> IG-replace-methods.html [ FAIL ]
REDIRECT:topic	 IG<-,SigSet-method -> IG-replace-methods.html [ FAIL ]
    IGpass                                  html  
    II-methods                              html  
    II-replace-methods                      html  
REDIRECT:topic	 II<- -> II-replace-methods.html [ FAIL ]
REDIRECT:topic	 II<-,SigSet-method -> II-replace-methods.html [ FAIL ]
    IIpass                                  html  
    IR-methods                              html  
    IR-replace-methods                      html  
REDIRECT:topic	 IR<- -> IR-replace-methods.html [ FAIL ]
REDIRECT:topic	 IR<-,SigSet-method -> IR-replace-methods.html [ FAIL ]
    IRpass                                  html  
    MValueToBetaValue                       html  
    RGChannelSetToSigSets                   html  
    SNPcheck                                html  
    SigSet-class                            html  
    SigSetList-class                        html  
    SigSetList-methods                      html  
    SigSetList                              html  
    SigSetListFromIDATs                     html  
    SigSetListFromPath                      html  
    SigSetToRatioSet                        html  
    SigSetsToRGChannelSet                   html  
    addMask                                 html  
    as.data.frame.sesameQC                  html  
    bSubComplete                            html  
    bSubMostVariable                        html  
    bSubProbes                              html  
    betaToAF                                html  
    binSignals                              html  
    bisConversionControl                    html  
    buildControlMatrix450k                  html  
    checkLevels                             html  
    chipAddressToSignal                     html  
    cnSegmentation                          html  
    compareMouseBloodReference              html  
    compareMouseTissueReference             html  
    createUCSCtrack                         html  
    ctl-methods                             html  
    ctl-replace-methods                     html  
REDIRECT:topic	 ctl<- -> ctl-replace-methods.html [ FAIL ]
REDIRECT:topic	 ctl<-,SigSet-method -> ctl-replace-methods.html [ FAIL ]
    deidentify                              html  
    detectionPfixedNorm                     html  
    detectionPnegEcdf                       html  
    detectionPnegNorm                       html  
    detectionPnegNormGS                     html  
    detectionPnegNormTotal                  html  
    detectionPoobEcdf                       html  
    detectionPoobEcdf2                      html  
    diffRefSet                              html  
    dyeBiasCorr                             html  
    dyeBiasCorrMostBalanced                 html  
    dyeBiasCorrTypeINorm                    html  
    estimateCellComposition                 html  
    estimateLeukocyte                       html  
    extra-methods                           html  
    extra-replace-methods                   html  
REDIRECT:topic	 extra<- -> extra-replace-methods.html [ FAIL ]
REDIRECT:topic	 extra<-,SigSet-method -> extra-replace-methods.html [ FAIL ]
    extractDesign                           html  
    formatVCF                               html  
    getAFTypeIbySumAlleles                  html  
    getAutosomeProbes                       html  
    getBetas                                html  
    getBinCoordinates                       html  
    getNormCtls                             html  
    getProbesByChromosome                   html  
    getProbesByGene                         html  
    getProbesByRegion                       html  
    getProbesByTSS                          html  
    getRefSet                               html  
    getSexInfo                              html  
    inferEthnicity                          html  
    inferSex                                html  
    inferSexKaryotypes                      html  
    inferStrain                             html  
    inferTypeIChannel                       html  
    initFileSet                             html  
    isUniqProbeID                           html  
    makeExampleSeSAMeDataSet                html  
    makeExampleTinyEPICDataSet              html  
    mapFileSet                              html  
    mask                                    html  
    meanIntensity                           html  
    noob                                    html  
    noobsb                                  html  
    oobG-methods                            html  
    oobG-replace-methods                    html  
REDIRECT:topic	 oobG<- -> oobG-replace-methods.html [ FAIL ]
REDIRECT:topic	 oobG<-,SigSet-method -> oobG-replace-methods.html [ FAIL ]
    oobGpass                                html  
    oobR-methods                            html  
    oobR-replace-methods                    html  
REDIRECT:topic	 oobR<- -> oobR-replace-methods.html [ FAIL ]
REDIRECT:topic	 oobR<-,SigSet-method -> oobR-replace-methods.html [ FAIL ]
    oobRpass                                html  
    openSesame                              html  
    openSesameToFile                        html  
    parseGEOSignalABFile                    html  
    predictAgeHorvath353                    html  
    predictAgePheno                         html  
    predictAgeSkinBlood                     html  
    predictMouseAgeInMonth                  html  
    print.DMLSummary                        html  
    print.fileSet                           html  
    print.sesameQC                          html  
    probeID_designType                      html  
    probeNames-methods                      html  
    pval-methods                            html  
    pval-replace-methods                    html  
REDIRECT:topic	 pval<- -> pval-replace-methods.html [ FAIL ]
REDIRECT:topic	 pval<-,SigSet-method -> pval-replace-methods.html [ FAIL ]
    qualityMask                             html  
    qualityRank                             html  
    reIdentify                              html  
    readFileSet                             html  
    readIDATpair                            html  
    reopenSesame                            html  
    resetMask                               html  
    restoreMask                             html  
    saveMask                                html  
    scrub                                   html  
    scrubSoft                               html  
    searchIDATprefixes                      html  
    segmentBins                             html  
    sesame-package                          html  
    sesamePlotIntensVsBetas                 html  
    sesamePlotRedGrnQQ                      html  
    sesameQC                                html  
    sesamize                                html  
    setMask                                 html  
    show-methods                            html  
    signalMU                                html  
    sliceFileSet                            html  
    subsetSignal                            html  
    summaryExtractCfList                    html  
    summaryExtractTest                      html  
    topSegments                             html  
    totalIntensities                        html  
    totalIntensityZscore                    html  
    twoCompsEst2                            html  
    visualizeGene                           html  
    visualizeProbes                         html  
    visualizeRegion                         html  
    visualizeSegments                       html  
** building package indices
** installing vignettes
** testing if installed package can be loaded from temporary location
** testing if installed package can be loaded from final location
** testing if installed package keeps a record of temporary installation path

install for x64

* installing *source* package 'sesame' ...
** testing if installed package can be loaded
* MD5 sums
packaged installation of 'sesame' as sesame_1.10.4.zip
* DONE (sesame)
* installing to library 'C:/Users/biocbuild/bbs-3.13-bioc/R/library'
package 'sesame' successfully unpacked and MD5 sums checked