Back to Multiple platform build/check report for BioC 3.13
ABCDEFGHIJKLMNOPQR[S]TUVWXYZ

This page was generated on 2021-07-23 15:06:51 -0400 (Fri, 23 Jul 2021).

BUILD results for sesame on machv2

To the developers/maintainers of the sesame package:
- Please allow up to 24 hours (and sometimes 48 hours) for your latest push to git@git.bioconductor.org:packages/sesame.git to
reflect on this report. See How and When does the builder pull? When will my changes propagate? here for more information.
- Make sure to use the following settings in order to reproduce any error or warning you see on this page.

raw results

Package 1745/2041HostnameOS / ArchINSTALLBUILDCHECKBUILD BIN
sesame 1.10.4  (landing page)
Wanding Zhou
Snapshot Date: 2021-07-22 04:50:13 -0400 (Thu, 22 Jul 2021)
URL: https://git.bioconductor.org/packages/sesame
Branch: RELEASE_3_13
Last Commit: 323ca39
Last Changed Date: 2021-06-03 16:32:54 -0400 (Thu, 03 Jun 2021)
nebbiolo1Linux (Ubuntu 20.04.2 LTS) / x86_64  OK    OK    OK  UNNEEDED, same version is already published
tokay2Windows Server 2012 R2 Standard / x64  OK    OK    OK    OK  UNNEEDED, same version is already published
machv2macOS 10.14.6 Mojave / x86_64  OK    OK    OK    OK  UNNEEDED, same version is already published

Summary

Package: sesame
Version: 1.10.4
Command: /Library/Frameworks/R.framework/Versions/Current/Resources/bin/R CMD build --keep-empty-dirs --no-resave-data sesame
StartedAt: 2021-07-22 14:31:22 -0400 (Thu, 22 Jul 2021)
EndedAt: 2021-07-22 14:50:47 -0400 (Thu, 22 Jul 2021)
EllapsedTime: 1165.0 seconds
RetCode: 0
Status:   OK  
PackageFile: sesame_1.10.4.tar.gz
PackageFileSize: 16.23 MiB

Command output

##############################################################################
##############################################################################
###
### Running command:
###
###   /Library/Frameworks/R.framework/Versions/Current/Resources/bin/R CMD build --keep-empty-dirs --no-resave-data sesame
###
##############################################################################
##############################################################################


* checking for file ‘sesame/DESCRIPTION’ ... OK
* preparing ‘sesame’:
* checking DESCRIPTION meta-information ... OK
* installing the package to build vignettes
* creating vignettes ... OK
* checking for LF line-endings in source and make files and shell scripts
* checking for empty or unneeded directories
* building ‘sesame_1.10.4.tar.gz’