Back to Multiple platform build/check report for BioC 3.19:   simplified   long
ABCDEFGHIJKLMNOPQR[S]TUVWXYZ

This page was generated on 2024-06-14 14:38 -0400 (Fri, 14 Jun 2024).

HostnameOSArch (*)R versionInstalled pkgs
nebbiolo1Linux (Ubuntu 22.04.3 LTS)x86_644.4.0 (2024-04-24) -- "Puppy Cup" 4757
palomino3Windows Server 2022 Datacenterx644.4.0 (2024-04-24 ucrt) -- "Puppy Cup" 4491
Click on any hostname to see more info about the system (e.g. compilers)      (*) as reported by 'uname -p', except on Windows and Mac OS X

Package 1933/2300HostnameOS / ArchINSTALLBUILDCHECKBUILD BIN
selectKSigs 1.16.0  (landing page)
Zhi Yang
Snapshot Date: 2024-06-12 14:00 -0400 (Wed, 12 Jun 2024)
git_url: https://git.bioconductor.org/packages/selectKSigs
git_branch: RELEASE_3_19
git_last_commit: de97ffe
git_last_commit_date: 2024-04-30 11:19:26 -0400 (Tue, 30 Apr 2024)
nebbiolo1Linux (Ubuntu 22.04.3 LTS) / x86_64  OK    OK    OK  UNNEEDED, same version is already published
palomino3Windows Server 2022 Datacenter / x64  OK    OK    OK    OK  UNNEEDED, same version is already published


BUILD BIN results for selectKSigs on palomino3

To the developers/maintainers of the selectKSigs package:
- Allow up to 24 hours (and sometimes 48 hours) for your latest push to git@git.bioconductor.org:packages/selectKSigs.git to reflect on this report. See Troubleshooting Build Report for more information.
- Use the following Renviron settings to reproduce errors and warnings.
- If 'R CMD check' started to fail recently on the Linux builder(s) over a missing dependency, add the missing dependency to 'Suggests:' in your DESCRIPTION file. See Renviron.bioc for more information.

raw results


Summary

Package: selectKSigs
Version: 1.16.0
Command: rm -rf selectKSigs.buildbin-libdir && mkdir selectKSigs.buildbin-libdir && F:\biocbuild\bbs-3.19-bioc\R\bin\R.exe CMD INSTALL --build --library=selectKSigs.buildbin-libdir selectKSigs_1.16.0.tar.gz
StartedAt: 2024-06-13 17:13:49 -0400 (Thu, 13 Jun 2024)
EndedAt: 2024-06-13 17:15:17 -0400 (Thu, 13 Jun 2024)
EllapsedTime: 87.8 seconds
RetCode: 0
Status:   OK  
PackageFile: selectKSigs_1.16.0.zip
PackageFileSize: 724.8 KiB

Command output

##############################################################################
##############################################################################
###
### Running command:
###
###   rm -rf selectKSigs.buildbin-libdir && mkdir selectKSigs.buildbin-libdir && F:\biocbuild\bbs-3.19-bioc\R\bin\R.exe CMD INSTALL --build --library=selectKSigs.buildbin-libdir selectKSigs_1.16.0.tar.gz
###
##############################################################################
##############################################################################


* installing *source* package 'selectKSigs' ...
** using staged installation
** libs
using C++ compiler: 'G__~1.EXE (GCC) 13.2.0'
g++ -std=gnu++17  -I"F:/biocbuild/bbs-3.19-bioc/R/include" -DNDEBUG  -I'F:/biocbuild/bbs-3.19-bioc/R/library/Rcpp/include'   -I"C:/rtools44/x86_64-w64-mingw32.static.posix/include"     -O2 -Wall  -mfpmath=sse -msse2 -mstackrealign  -c EMalgorithm.cpp -o EMalgorithm.o
g++ -std=gnu++17  -I"F:/biocbuild/bbs-3.19-bioc/R/include" -DNDEBUG  -I'F:/biocbuild/bbs-3.19-bioc/R/library/Rcpp/include'   -I"C:/rtools44/x86_64-w64-mingw32.static.posix/include"     -O2 -Wall  -mfpmath=sse -msse2 -mstackrealign  -c RcppExports.cpp -o RcppExports.o
g++ -std=gnu++17  -I"F:/biocbuild/bbs-3.19-bioc/R/include" -DNDEBUG  -I'F:/biocbuild/bbs-3.19-bioc/R/library/Rcpp/include'   -I"C:/rtools44/x86_64-w64-mingw32.static.posix/include"     -O2 -Wall  -mfpmath=sse -msse2 -mstackrealign  -c convertFromToVector.cpp -o convertFromToVector.o
g++ -std=gnu++17 -shared -s -static-libgcc -o selectKSigs.dll tmp.def EMalgorithm.o RcppExports.o convertFromToVector.o -LC:/rtools44/x86_64-w64-mingw32.static.posix/lib/x64 -LC:/rtools44/x86_64-w64-mingw32.static.posix/lib -LF:/biocbuild/bbs-3.19-bioc/R/bin/x64 -lR
installing to F:/biocbuild/bbs-3.19-bioc/meat/selectKSigs.buildbin-libdir/00LOCK-selectKSigs/00new/selectKSigs/libs/x64
** R
** inst
** byte-compile and prepare package for lazy loading
** help
*** installing help indices
** building package indices
** installing vignettes
** testing if installed package can be loaded from temporary location
** testing if installed package can be loaded from final location
** testing if installed package keeps a record of temporary installation path
* MD5 sums
packaged installation of 'selectKSigs' as selectKSigs_1.16.0.zip
* DONE (selectKSigs)