Back to Multiple platform build/check report for BioC 3.14
ABCDEFGHIJKLMNOPQR[S]TUVWXYZ

This page was generated on 2021-11-24 15:05:47 -0500 (Wed, 24 Nov 2021).

CHECK results for scruff on tokay2

To the developers/maintainers of the scruff package:
- Please allow up to 24 hours (and sometimes 48 hours) for your latest push to git@git.bioconductor.org:packages/scruff.git to
reflect on this report. See How and When does the builder pull? When will my changes propagate? here for more information.
- Make sure to use the following settings in order to reproduce any error or warning you see on this page.

raw results

Package 1744/2083HostnameOS / ArchINSTALLBUILDCHECKBUILD BIN
scruff 1.12.1  (landing page)
Zhe Wang
Snapshot Date: 2021-11-23 04:15:06 -0500 (Tue, 23 Nov 2021)
git_url: https://git.bioconductor.org/packages/scruff
git_branch: RELEASE_3_14
git_last_commit: ecade1b
git_last_commit_date: 2021-11-12 18:16:24 -0500 (Fri, 12 Nov 2021)
nebbiolo2Linux (Ubuntu 20.04.3 LTS) / x86_64  OK    OK    OK  UNNEEDED, same version is already published
tokay2Windows Server 2012 R2 Standard / x64  OK    OK    OK    OK  UNNEEDED, same version is already published
machv2macOS 10.14.6 Mojave / x86_64  OK    OK    OK    OK  UNNEEDED, same version is already published

Summary

Package: scruff
Version: 1.12.1
Command: C:\Users\biocbuild\bbs-3.14-bioc\R\bin\R.exe CMD check --force-multiarch --install=check:scruff.install-out.txt --library=C:\Users\biocbuild\bbs-3.14-bioc\R\library --no-vignettes --timings scruff_1.12.1.tar.gz
StartedAt: 2021-11-24 04:31:02 -0500 (Wed, 24 Nov 2021)
EndedAt: 2021-11-24 04:41:47 -0500 (Wed, 24 Nov 2021)
EllapsedTime: 645.0 seconds
RetCode: 0
Status:   OK  
CheckDir: scruff.Rcheck
Warnings: 0

Command output

##############################################################################
##############################################################################
###
### Running command:
###
###   C:\Users\biocbuild\bbs-3.14-bioc\R\bin\R.exe CMD check --force-multiarch --install=check:scruff.install-out.txt --library=C:\Users\biocbuild\bbs-3.14-bioc\R\library --no-vignettes --timings scruff_1.12.1.tar.gz
###
##############################################################################
##############################################################################


* using log directory 'C:/Users/biocbuild/bbs-3.14-bioc/meat/scruff.Rcheck'
* using R version 4.1.2 (2021-11-01)
* using platform: x86_64-w64-mingw32 (64-bit)
* using session charset: ISO8859-1
* using option '--no-vignettes'
* checking for file 'scruff/DESCRIPTION' ... OK
* this is package 'scruff' version '1.12.1'
* package encoding: UTF-8
* checking package namespace information ... OK
* checking package dependencies ... OK
* checking if this is a source package ... OK
* checking if there is a namespace ... OK
* checking for hidden files and directories ... OK
* checking for portable file names ... OK
* checking whether package 'scruff' can be installed ... OK
* checking installed package size ... OK
* checking package directory ... OK
* checking 'build' directory ... OK
* checking DESCRIPTION meta-information ... OK
* checking top-level files ... OK
* checking for left-over files ... OK
* checking index information ... OK
* checking package subdirectories ... OK
* checking R files for non-ASCII characters ... OK
* checking R files for syntax errors ... OK
* loading checks for arch 'i386'
** checking whether the package can be loaded ... OK
** checking whether the package can be loaded with stated dependencies ... OK
** checking whether the package can be unloaded cleanly ... OK
** checking whether the namespace can be loaded with stated dependencies ... OK
** checking whether the namespace can be unloaded cleanly ... OK
* loading checks for arch 'x64'
** checking whether the package can be loaded ... OK
** checking whether the package can be loaded with stated dependencies ... OK
** checking whether the package can be unloaded cleanly ... OK
** checking whether the namespace can be loaded with stated dependencies ... OK
** checking whether the namespace can be unloaded cleanly ... OK
* checking dependencies in R code ... NOTE
Unexported object imported by a ':::' call: 'ShortRead:::.set_omp_threads'
  See the note in ?`:::` about the use of this operator.
* checking S3 generic/method consistency ... OK
* checking replacement functions ... OK
* checking foreign function calls ... NOTE
Foreign function call to a different package:
  .Call(ShortRead:::.set_omp_threads, ...)
See chapter 'System and foreign language interfaces' in the 'Writing R
Extensions' manual.
* checking R code for possible problems ... OK
* checking Rd files ... OK
* checking Rd metadata ... OK
* checking Rd cross-references ... OK
* checking for missing documentation entries ... OK
* checking for code/documentation mismatches ... OK
* checking Rd \usage sections ... OK
* checking Rd contents ... OK
* checking for unstated dependencies in examples ... OK
* checking contents of 'data' directory ... OK
* checking data for non-ASCII characters ... OK
* checking LazyData ... OK
* checking data for ASCII and uncompressed saves ... OK
* checking files in 'vignettes' ... OK
* checking examples ...
** running examples for arch 'i386' ... OK
Examples with CPU (user + system) or elapsed time > 5s
            user system elapsed
tenxBamqc   6.89   0.37   44.66
demultiplex 1.90   0.45   39.42
** running examples for arch 'x64' ... OK
Examples with CPU (user + system) or elapsed time > 5s
            user system elapsed
tenxBamqc   7.70   0.44   46.53
demultiplex 2.44   0.21   37.75
* checking for unstated dependencies in 'tests' ... OK
* checking tests ...
** running tests for arch 'i386' ...
  Running 'testthat.R'
 OK
** running tests for arch 'x64' ...
  Running 'testthat.R'
 OK
* checking for unstated dependencies in vignettes ... OK
* checking package vignettes in 'inst/doc' ... OK
* checking running R code from vignettes ... SKIPPED
* checking re-building of vignette outputs ... SKIPPED
* checking PDF version of manual ... OK
* DONE

Status: 2 NOTEs
See
  'C:/Users/biocbuild/bbs-3.14-bioc/meat/scruff.Rcheck/00check.log'
for details.



Installation output

scruff.Rcheck/00install.out

##############################################################################
##############################################################################
###
### Running command:
###
###   C:\cygwin\bin\curl.exe -O http://155.52.207.166/BBS/3.14/bioc/src/contrib/scruff_1.12.1.tar.gz && rm -rf scruff.buildbin-libdir && mkdir scruff.buildbin-libdir && C:\Users\biocbuild\bbs-3.14-bioc\R\bin\R.exe CMD INSTALL --merge-multiarch --build --library=scruff.buildbin-libdir scruff_1.12.1.tar.gz && C:\Users\biocbuild\bbs-3.14-bioc\R\bin\R.exe CMD INSTALL scruff_1.12.1.zip && rm scruff_1.12.1.tar.gz scruff_1.12.1.zip
###
##############################################################################
##############################################################################


  % Total    % Received % Xferd  Average Speed   Time    Time     Time  Current
                                 Dload  Upload   Total   Spent    Left  Speed

  0     0    0     0    0     0      0      0 --:--:-- --:--:-- --:--:--     0
  9 4409k    9  440k    0     0  1082k      0  0:00:04 --:--:--  0:00:04 1081k
 55 4409k   55 2431k    0     0  1708k      0  0:00:02  0:00:01  0:00:01 1708k
100 4409k  100 4409k    0     0  2118k      0  0:00:02  0:00:02 --:--:-- 2119k

install for i386

* installing *source* package 'scruff' ...
** using staged installation
** R
** data
*** moving datasets to lazyload DB
** inst
** byte-compile and prepare package for lazy loading
** help
*** installing help indices
  converting help for package 'scruff'
    finding HTML links ... done
    alignRsubread                           html  
    bamExample                              html  
    barcodeExample                          html  
    cbtop10000                              html  
    countUMI                                html  
    demultiplex                             html  
    gview                                   html  
    qcplots                                 html  
    rview                                   html  
    sceExample                              html  
    scruff                                  html  
    tenxBamqc                               html  
    validCb                                 html  
** building package indices
** installing vignettes
** testing if installed package can be loaded from temporary location
** testing if installed package can be loaded from final location
** testing if installed package keeps a record of temporary installation path

install for x64

* installing *source* package 'scruff' ...
** testing if installed package can be loaded
* MD5 sums
packaged installation of 'scruff' as scruff_1.12.1.zip
* DONE (scruff)
* installing to library 'C:/Users/biocbuild/bbs-3.14-bioc/R/library'
package 'scruff' successfully unpacked and MD5 sums checked

Tests output

scruff.Rcheck/tests_i386/testthat.Rout


R version 4.1.2 (2021-11-01) -- "Bird Hippie"
Copyright (C) 2021 The R Foundation for Statistical Computing
Platform: i386-w64-mingw32/i386 (32-bit)

R is free software and comes with ABSOLUTELY NO WARRANTY.
You are welcome to redistribute it under certain conditions.
Type 'license()' or 'licence()' for distribution details.

R is a collaborative project with many contributors.
Type 'contributors()' for more information and
'citation()' on how to cite R or R packages in publications.

Type 'demo()' for some demos, 'help()' for on-line help, or
'help.start()' for an HTML browser interface to help.
Type 'q()' to quit R.

> library(testthat)
> library(scruff)
> 
> test_check("scruff")
[ FAIL 0 | WARN 0 | SKIP 0 | PASS 4 ]
> 
> proc.time()
   user  system elapsed 
  14.18    1.45   15.62 

scruff.Rcheck/tests_x64/testthat.Rout


R version 4.1.2 (2021-11-01) -- "Bird Hippie"
Copyright (C) 2021 The R Foundation for Statistical Computing
Platform: x86_64-w64-mingw32/x64 (64-bit)

R is free software and comes with ABSOLUTELY NO WARRANTY.
You are welcome to redistribute it under certain conditions.
Type 'license()' or 'licence()' for distribution details.

R is a collaborative project with many contributors.
Type 'contributors()' for more information and
'citation()' on how to cite R or R packages in publications.

Type 'demo()' for some demos, 'help()' for on-line help, or
'help.start()' for an HTML browser interface to help.
Type 'q()' to quit R.

> library(testthat)
> library(scruff)
> 
> test_check("scruff")
[ FAIL 0 | WARN 0 | SKIP 0 | PASS 4 ]
> 
> proc.time()
   user  system elapsed 
  16.60    0.67   17.28 

Example timings

scruff.Rcheck/examples_i386/scruff-Ex.timings

nameusersystemelapsed
alignRsubread000
countUMI0.120.000.12
demultiplex 1.90 0.4539.42
gview0.960.331.28
qcplots3.520.674.18
rview3.940.234.18
scruff000
tenxBamqc 6.89 0.3744.66

scruff.Rcheck/examples_x64/scruff-Ex.timings

nameusersystemelapsed
alignRsubread000
countUMI000
demultiplex 2.44 0.2137.75
gview1.110.061.17
qcplots3.210.083.30
rview3.930.003.92
scruff000
tenxBamqc 7.70 0.4446.53