Back to Multiple platform build/check report for BioC 3.14
ABCDEFGHIJKLMNOPQR[S]TUVWXYZ

This page was generated on 2021-11-24 15:06:20 -0500 (Wed, 24 Nov 2021).

BUILD results for scruff on machv2

To the developers/maintainers of the scruff package:
- Please allow up to 24 hours (and sometimes 48 hours) for your latest push to git@git.bioconductor.org:packages/scruff.git to
reflect on this report. See How and When does the builder pull? When will my changes propagate? here for more information.
- Make sure to use the following settings in order to reproduce any error or warning you see on this page.

raw results

Package 1744/2083HostnameOS / ArchINSTALLBUILDCHECKBUILD BIN
scruff 1.12.1  (landing page)
Zhe Wang
Snapshot Date: 2021-11-23 04:15:06 -0500 (Tue, 23 Nov 2021)
git_url: https://git.bioconductor.org/packages/scruff
git_branch: RELEASE_3_14
git_last_commit: ecade1b
git_last_commit_date: 2021-11-12 18:16:24 -0500 (Fri, 12 Nov 2021)
nebbiolo2Linux (Ubuntu 20.04.3 LTS) / x86_64  OK    OK    OK  UNNEEDED, same version is already published
tokay2Windows Server 2012 R2 Standard / x64  OK    OK    OK    OK  UNNEEDED, same version is already published
machv2macOS 10.14.6 Mojave / x86_64  OK    OK    OK    OK  UNNEEDED, same version is already published

Summary

Package: scruff
Version: 1.12.1
Command: /Library/Frameworks/R.framework/Resources/bin/R CMD build --keep-empty-dirs --no-resave-data scruff
StartedAt: 2021-11-23 12:07:27 -0500 (Tue, 23 Nov 2021)
EndedAt: 2021-11-23 12:10:18 -0500 (Tue, 23 Nov 2021)
EllapsedTime: 171.0 seconds
RetCode: 0
Status:   OK  
PackageFile: scruff_1.12.1.tar.gz
PackageFileSize: 1.515 MiB

Command output

##############################################################################
##############################################################################
###
### Running command:
###
###   /Library/Frameworks/R.framework/Resources/bin/R CMD build --keep-empty-dirs --no-resave-data scruff
###
##############################################################################
##############################################################################


* checking for file ‘scruff/DESCRIPTION’ ... OK
* preparing ‘scruff’:
* checking DESCRIPTION meta-information ... OK
* installing the package to build vignettes
* creating vignettes ... OK
* checking for LF line-endings in source and make files and shell scripts
* checking for empty or unneeded directories
* building ‘scruff_1.12.1.tar.gz’