Back to Multiple platform build/check report for BioC 3.13
ABCDEFGHIJKLMNOPQR[S]TUVWXYZ

This page was generated on 2021-09-17 15:06:22 -0400 (Fri, 17 Sep 2021).

BUILD BIN results for scoreInvHap on tokay2

To the developers/maintainers of the scoreInvHap package:
- Please allow up to 24 hours (and sometimes 48 hours) for your latest push to git@git.bioconductor.org:packages/scoreInvHap.git to
reflect on this report. See How and When does the builder pull? When will my changes propagate? here for more information.
- Make sure to use the following settings in order to reproduce any error or warning you see on this page.

raw results

Package 1709/2041HostnameOS / ArchINSTALLBUILDCHECKBUILD BIN
scoreInvHap 1.14.0  (landing page)
Dolors Pelegri-Siso
Snapshot Date: 2021-09-16 04:50:11 -0400 (Thu, 16 Sep 2021)
git_url: https://git.bioconductor.org/packages/scoreInvHap
git_branch: RELEASE_3_13
git_last_commit: 484fe25
git_last_commit_date: 2021-05-19 12:28:35 -0400 (Wed, 19 May 2021)
nebbiolo1Linux (Ubuntu 20.04.2 LTS) / x86_64  OK    OK    OK  UNNEEDED, same version is already published
tokay2Windows Server 2012 R2 Standard / x64  OK    OK    OK    OK  UNNEEDED, same version is already published
machv2macOS 10.14.6 Mojave / x86_64  OK    OK    OK    OK  UNNEEDED, same version is already published

Summary

Package: scoreInvHap
Version: 1.14.0
Command: rm -rf scoreInvHap.buildbin-libdir && mkdir scoreInvHap.buildbin-libdir && C:\Users\biocbuild\bbs-3.13-bioc\R\bin\R.exe CMD INSTALL --merge-multiarch --build --library=scoreInvHap.buildbin-libdir scoreInvHap_1.14.0.tar.gz
StartedAt: 2021-09-17 11:50:49 -0400 (Fri, 17 Sep 2021)
EndedAt: 2021-09-17 11:52:19 -0400 (Fri, 17 Sep 2021)
EllapsedTime: 90.4 seconds
RetCode: 0
Status:   OK  
PackageFile: scoreInvHap_1.14.0.zip
PackageFileSize: 1.538 MiB

Command output

##############################################################################
##############################################################################
###
### Running command:
###
###   rm -rf scoreInvHap.buildbin-libdir && mkdir scoreInvHap.buildbin-libdir && C:\Users\biocbuild\bbs-3.13-bioc\R\bin\R.exe CMD INSTALL --merge-multiarch --build --library=scoreInvHap.buildbin-libdir scoreInvHap_1.14.0.tar.gz
###
##############################################################################
##############################################################################



install for i386

* installing *source* package 'scoreInvHap' ...
** using staged installation
** R
** data
*** moving datasets to lazyload DB
** inst
** byte-compile and prepare package for lazy loading
** help
*** installing help indices
  converting help for package 'scoreInvHap'
    finding HTML links ... done
    Refs                                    html  
    SNPsR2                                  html  
    adaptRefs                               html  
    checkSNPs                               html  
    classifSNPs                             html  
    computeScore                            html  
    correctAlleleTable                      html  
    getAlleleTable                          html  
    getGenotypesTable                       html  
    getInvStatus                            html  
    hetRefs                                 html  
    info                                    html  
    inversionGR                             html  
    prepareMap                              html  
    scoreInvHap                             html  
    scoreInvHapRes-class                    html  
** building package indices
** installing vignettes
** testing if installed package can be loaded from temporary location
** testing if installed package can be loaded from final location
** testing if installed package keeps a record of temporary installation path

install for x64

* installing *source* package 'scoreInvHap' ...
** testing if installed package can be loaded
* MD5 sums
packaged installation of 'scoreInvHap' as scoreInvHap_1.14.0.zip
* DONE (scoreInvHap)