Index of /checkResults/release/bioc-LATEST/sccomp/raw-results/palomino3

[ICO]NameLast modifiedSizeDescription

[DIR]Parent Directory  -  
[TXT]buildbin-out.txt15-Jun-2024 03:38 9.5M 
[   ]buildbin-summary.dcf15-Jun-2024 03:38 507  
[TXT]buildsrc-out.txt15-Jun-2024 03:38 943  
[   ]buildsrc-summary.dcf15-Jun-2024 03:38 447  
[TXT]checksrc-out.txt15-Jun-2024 03:38 28K 
[   ]checksrc-summary.dcf15-Jun-2024 03:38 442  
[TXT]install-out.txt15-Jun-2024 03:38 9.5M 
[   ]install-summary.dcf15-Jun-2024 03:38 266