Index of /checkResults/release/bioc-LATEST/sccomp/raw-results/nebbiolo1

[ICO]NameLast modifiedSizeDescription

[DIR]Parent Directory  -  
[TXT]buildsrc-out.txt15-Jun-2024 03:37 831  
[   ]buildsrc-summary.dcf15-Jun-2024 03:37 413  
[TXT]checksrc-out.txt15-Jun-2024 03:37 28K 
[   ]checksrc-summary.dcf15-Jun-2024 03:37 408  
[TXT]install-out.txt15-Jun-2024 03:37 10M 
[   ]install-summary.dcf15-Jun-2024 03:37 257