Back to Multiple platform build/check report for BioC 3.13
ABCDEFGHIJKLMNOPQR[S]TUVWXYZ

This page was generated on 2021-09-15 15:05:46 -0400 (Wed, 15 Sep 2021).

INSTALL results for scTensor on tokay2

To the developers/maintainers of the scTensor package:
- Please allow up to 24 hours (and sometimes 48 hours) for your latest push to git@git.bioconductor.org:packages/scTensor.git to
reflect on this report. See How and When does the builder pull? When will my changes propagate? here for more information.
- Make sure to use the following settings in order to reproduce any error or warning you see on this page.

raw results

Package 1718/2041HostnameOS / ArchINSTALLBUILDCHECKBUILD BIN
scTensor 2.2.0  (landing page)
Koki Tsuyuzaki
Snapshot Date: 2021-09-14 04:50:06 -0400 (Tue, 14 Sep 2021)
git_url: https://git.bioconductor.org/packages/scTensor
git_branch: RELEASE_3_13
git_last_commit: adb0ecb
git_last_commit_date: 2021-05-19 12:39:42 -0400 (Wed, 19 May 2021)
nebbiolo1Linux (Ubuntu 20.04.2 LTS) / x86_64  OK    OK    OK  UNNEEDED, same version is already published
tokay2Windows Server 2012 R2 Standard / x64  OK    OK    OK    OK  UNNEEDED, same version is already published
machv2macOS 10.14.6 Mojave / x86_64  OK    OK    OK    OK  UNNEEDED, same version is already published

Summary

Package: scTensor
Version: 2.2.0
Command: C:\cygwin\bin\curl.exe -O http://155.52.207.165/BBS/3.13/bioc/src/contrib/scTensor_2.2.0.tar.gz && rm -rf scTensor.buildbin-libdir && mkdir scTensor.buildbin-libdir && C:\Users\biocbuild\bbs-3.13-bioc\R\bin\R.exe CMD INSTALL --merge-multiarch --build --library=scTensor.buildbin-libdir scTensor_2.2.0.tar.gz && C:\Users\biocbuild\bbs-3.13-bioc\R\bin\R.exe CMD INSTALL scTensor_2.2.0.zip && rm scTensor_2.2.0.tar.gz scTensor_2.2.0.zip
StartedAt: 2021-09-14 10:29:49 -0400 (Tue, 14 Sep 2021)
EndedAt: 2021-09-14 10:32:05 -0400 (Tue, 14 Sep 2021)
EllapsedTime: 135.2 seconds
RetCode: 0
Status:   OK  

Command output

##############################################################################
##############################################################################
###
### Running command:
###
###   C:\cygwin\bin\curl.exe -O http://155.52.207.165/BBS/3.13/bioc/src/contrib/scTensor_2.2.0.tar.gz && rm -rf scTensor.buildbin-libdir && mkdir scTensor.buildbin-libdir && C:\Users\biocbuild\bbs-3.13-bioc\R\bin\R.exe CMD INSTALL --merge-multiarch --build --library=scTensor.buildbin-libdir scTensor_2.2.0.tar.gz && C:\Users\biocbuild\bbs-3.13-bioc\R\bin\R.exe CMD INSTALL scTensor_2.2.0.zip && rm scTensor_2.2.0.tar.gz scTensor_2.2.0.zip
###
##############################################################################
##############################################################################


  % Total    % Received % Xferd  Average Speed   Time    Time     Time  Current
                                 Dload  Upload   Total   Spent    Left  Speed

  0     0    0     0    0     0      0      0 --:--:-- --:--:-- --:--:--     0
  0 10.7M    0  2484    0     0  30196      0  0:06:13 --:--:--  0:06:13 30292
 16 10.7M   16 1858k    0     0  1733k      0  0:00:06  0:00:01  0:00:05 1733k
 29 10.7M   29 3247k    0     0  1558k      0  0:00:07  0:00:02  0:00:05 1558k
 63 10.7M   63 6954k    0     0  2252k      0  0:00:04  0:00:03  0:00:01 2252k
100 10.7M  100 10.7M    0     0  2779k      0  0:00:03  0:00:03 --:--:-- 2779k

install for i386

* installing *source* package 'scTensor' ...
** using staged installation
** R
** data
** inst
** byte-compile and prepare package for lazy loading
Creating a new generic function for 'show' in package 'scTensor'
** help
*** installing help indices
  converting help for package 'scTensor'
    finding HTML links ... done
    CCSParams-class                         html  
    GermMale                                html  
    cellCellDecomp                          html  
    cellCellRanks                           html  
    cellCellReport                          html  
    cellCellSetting                         html  
    cellCellSimulate                        html  
    convertToNCBIGeneID                     html  
    getParam                                html  
    labelGermMale                           html  
    m                                       html  
    newCCSParams                            html  
    scTensor-package                        html  
    setParam                                html  
    tsneGermMale                            html  
    v                                       html  
** building package indices
** installing vignettes
** testing if installed package can be loaded from temporary location
** testing if installed package can be loaded from final location
** testing if installed package keeps a record of temporary installation path

install for x64

* installing *source* package 'scTensor' ...
** testing if installed package can be loaded
* MD5 sums
packaged installation of 'scTensor' as scTensor_2.2.0.zip
* DONE (scTensor)
* installing to library 'C:/Users/biocbuild/bbs-3.13-bioc/R/library'
package 'scTensor' successfully unpacked and MD5 sums checked