Back to Multiple platform build/check report for BioC 3.13
ABCDEFGHIJKLMNOPQR[S]TUVWXYZ

This page was generated on 2021-09-15 15:06:16 -0400 (Wed, 15 Sep 2021).

INSTALL results for scTensor on machv2

To the developers/maintainers of the scTensor package:
- Please allow up to 24 hours (and sometimes 48 hours) for your latest push to git@git.bioconductor.org:packages/scTensor.git to
reflect on this report. See How and When does the builder pull? When will my changes propagate? here for more information.
- Make sure to use the following settings in order to reproduce any error or warning you see on this page.

raw results

Package 1718/2041HostnameOS / ArchINSTALLBUILDCHECKBUILD BIN
scTensor 2.2.0  (landing page)
Koki Tsuyuzaki
Snapshot Date: 2021-09-14 04:50:06 -0400 (Tue, 14 Sep 2021)
git_url: https://git.bioconductor.org/packages/scTensor
git_branch: RELEASE_3_13
git_last_commit: adb0ecb
git_last_commit_date: 2021-05-19 12:39:42 -0400 (Wed, 19 May 2021)
nebbiolo1Linux (Ubuntu 20.04.2 LTS) / x86_64  OK    OK    OK  UNNEEDED, same version is already published
tokay2Windows Server 2012 R2 Standard / x64  OK    OK    OK    OK  UNNEEDED, same version is already published
machv2macOS 10.14.6 Mojave / x86_64  OK    OK    OK    OK  UNNEEDED, same version is already published

Summary

Package: scTensor
Version: 2.2.0
Command: /Library/Frameworks/R.framework/Versions/Current/Resources/bin/R CMD INSTALL scTensor
StartedAt: 2021-09-14 10:15:54 -0400 (Tue, 14 Sep 2021)
EndedAt: 2021-09-14 10:17:21 -0400 (Tue, 14 Sep 2021)
EllapsedTime: 87.1 seconds
RetCode: 0
Status:   OK  

Command output

##############################################################################
##############################################################################
###
### Running command:
###
###   /Library/Frameworks/R.framework/Versions/Current/Resources/bin/R CMD INSTALL scTensor
###
##############################################################################
##############################################################################


* installing to library ‘/Library/Frameworks/R.framework/Versions/4.1/Resources/library’
* installing *source* package ‘scTensor’ ...
** using staged installation
** R
** data
** inst
** byte-compile and prepare package for lazy loading
Creating a new generic function for 'show' in package 'scTensor'
** help
*** installing help indices
** building package indices
** installing vignettes
** testing if installed package can be loaded from temporary location
** testing if installed package can be loaded from final location
** testing if installed package keeps a record of temporary installation path
* DONE (scTensor)