Back to Multiple platform build/check report for BioC 3.19:   simplified   long
ABCDEFGHIJKLMNOPQR[S]TUVWXYZ

This page was generated on 2024-06-18 17:58 -0400 (Tue, 18 Jun 2024).

HostnameOSArch (*)R versionInstalled pkgs
nebbiolo1Linux (Ubuntu 22.04.3 LTS)x86_644.4.0 (2024-04-24) -- "Puppy Cup" 4758
palomino3Windows Server 2022 Datacenterx644.4.0 (2024-04-24 ucrt) -- "Puppy Cup" 4492
merida1macOS 12.7.4 Montereyx86_644.4.0 (2024-04-24) -- "Puppy Cup" 4464
kjohnson1macOS 13.6.6 Venturaarm644.4.0 (2024-04-24) -- "Puppy Cup" 4464
Click on any hostname to see more info about the system (e.g. compilers)      (*) as reported by 'uname -p', except on Windows and Mac OS X

Package 1893/2300HostnameOS / ArchINSTALLBUILDCHECKBUILD BIN
scFeatures 1.4.0  (landing page)
Yue Cao
Snapshot Date: 2024-06-16 14:00 -0400 (Sun, 16 Jun 2024)
git_url: https://git.bioconductor.org/packages/scFeatures
git_branch: RELEASE_3_19
git_last_commit: b3d1905
git_last_commit_date: 2024-04-30 11:47:00 -0400 (Tue, 30 Apr 2024)
nebbiolo1Linux (Ubuntu 22.04.3 LTS) / x86_64  OK    OK    OK  UNNEEDED, same version is already published
palomino3Windows Server 2022 Datacenter / x64  OK    OK    OK    OK  UNNEEDED, same version is already published
merida1macOS 12.7.4 Monterey / x86_64  OK    OK    OK    OK  UNNEEDED, same version is already published
kjohnson1macOS 13.6.6 Ventura / arm64  OK    OK    OK    OK  UNNEEDED, same version is already published


CHECK results for scFeatures on nebbiolo1

To the developers/maintainers of the scFeatures package:
- Allow up to 24 hours (and sometimes 48 hours) for your latest push to git@git.bioconductor.org:packages/scFeatures.git to reflect on this report. See Troubleshooting Build Report for more information.
- Use the following Renviron settings to reproduce errors and warnings.
- If 'R CMD check' started to fail recently on the Linux builder(s) over a missing dependency, add the missing dependency to 'Suggests:' in your DESCRIPTION file. See Renviron.bioc for more information.

raw results


Summary

Package: scFeatures
Version: 1.4.0
Command: /home/biocbuild/bbs-3.19-bioc/R/bin/R CMD check --install=check:scFeatures.install-out.txt --library=/home/biocbuild/bbs-3.19-bioc/R/site-library --timings scFeatures_1.4.0.tar.gz
StartedAt: 2024-06-17 03:32:02 -0400 (Mon, 17 Jun 2024)
EndedAt: 2024-06-17 03:40:06 -0400 (Mon, 17 Jun 2024)
EllapsedTime: 484.9 seconds
RetCode: 0
Status:   OK  
CheckDir: scFeatures.Rcheck
Warnings: 0

Command output

##############################################################################
##############################################################################
###
### Running command:
###
###   /home/biocbuild/bbs-3.19-bioc/R/bin/R CMD check --install=check:scFeatures.install-out.txt --library=/home/biocbuild/bbs-3.19-bioc/R/site-library --timings scFeatures_1.4.0.tar.gz
###
##############################################################################
##############################################################################


* using log directory ‘/home/biocbuild/bbs-3.19-bioc/meat/scFeatures.Rcheck’
* using R version 4.4.0 (2024-04-24)
* using platform: x86_64-pc-linux-gnu
* R was compiled by
    gcc (Ubuntu 11.4.0-1ubuntu1~22.04) 11.4.0
    GNU Fortran (Ubuntu 11.4.0-1ubuntu1~22.04) 11.4.0
* running under: Ubuntu 22.04.4 LTS
* using session charset: UTF-8
* checking for file ‘scFeatures/DESCRIPTION’ ... OK
* this is package ‘scFeatures’ version ‘1.4.0’
* package encoding: UTF-8
* checking package namespace information ... OK
* checking package dependencies ... OK
* checking if this is a source package ... OK
* checking if there is a namespace ... OK
* checking for hidden files and directories ... OK
* checking for portable file names ... OK
* checking for sufficient/correct file permissions ... OK
* checking whether package ‘scFeatures’ can be installed ... OK
* checking installed package size ... OK
* checking package directory ... OK
* checking ‘build’ directory ... OK
* checking DESCRIPTION meta-information ... OK
* checking top-level files ... OK
* checking for left-over files ... OK
* checking index information ... OK
* checking package subdirectories ... OK
* checking code files for non-ASCII characters ... OK
* checking R files for syntax errors ... OK
* checking whether the package can be loaded ... OK
* checking whether the package can be loaded with stated dependencies ... OK
* checking whether the package can be unloaded cleanly ... OK
* checking whether the namespace can be loaded with stated dependencies ... OK
* checking whether the namespace can be unloaded cleanly ... OK
* checking loading without being on the library search path ... OK
* checking dependencies in R code ... NOTE
Namespaces in Imports field not imported from:
  'DT' 'Seurat'
  All declared Imports should be used.
* checking S3 generic/method consistency ... OK
* checking replacement functions ... OK
* checking foreign function calls ... OK
* checking R code for possible problems ... NOTE
helper_CCI: no visible global function definition for 'data'
helper_CCI: no visible binding for global variable 'LRdb'
helper_CCI: no visible global function definition for 'capture.output'
helper_pathway_gsva: no visible global function definition for
  'capture.output'
run_pathway_gsva: no visible global function definition for
  'capture.output'
Undefined global functions or variables:
  LRdb capture.output data
Consider adding
  importFrom("utils", "capture.output", "data")
to your NAMESPACE file.
* checking Rd files ... OK
* checking Rd metadata ... OK
* checking Rd cross-references ... OK
* checking for missing documentation entries ... OK
* checking for code/documentation mismatches ... OK
* checking Rd \usage sections ... OK
* checking Rd contents ... OK
* checking for unstated dependencies in examples ... OK
* checking contents of ‘data’ directory ... OK
* checking data for non-ASCII characters ... OK
* checking data for ASCII and uncompressed saves ... OK
* checking files in ‘vignettes’ ... OK
* checking examples ... OK
* checking for unstated dependencies in vignettes ... OK
* checking package vignettes ... OK
* checking re-building of vignette outputs ... OK
* checking PDF version of manual ... OK
* DONE

Status: 2 NOTEs
See
  ‘/home/biocbuild/bbs-3.19-bioc/meat/scFeatures.Rcheck/00check.log’
for details.


Installation output

scFeatures.Rcheck/00install.out

##############################################################################
##############################################################################
###
### Running command:
###
###   /home/biocbuild/bbs-3.19-bioc/R/bin/R CMD INSTALL scFeatures
###
##############################################################################
##############################################################################


* installing to library ‘/home/biocbuild/bbs-3.19-bioc/R/site-library’
* installing *source* package ‘scFeatures’ ...
** using staged installation
** R
** data
** inst
** byte-compile and prepare package for lazy loading
** help
*** installing help indices
** building package indices
** installing vignettes
** testing if installed package can be loaded from temporary location
** testing if installed package can be loaded from final location
** testing if installed package keeps a record of temporary installation path
* DONE (scFeatures)

Tests output


Example timings

scFeatures.Rcheck/scFeatures-Ex.timings

nameusersystemelapsed
get_num_cell_per_spot0.2010.0160.217
remove_mito_ribo1.8220.0761.899
run_CCI2.5060.1372.643
run_L_function0.3420.0560.397
run_Morans_I0.3820.0280.410
run_association_study_report000
run_celltype_interaction0.2000.0200.219
run_gene_cor0.3070.0360.342
run_gene_cor_celltype0.2990.0200.320
run_gene_mean0.3570.0240.381
run_gene_mean_celltype0.4180.0080.425
run_gene_prop0.3100.0160.326
run_gene_prop_celltype0.3530.0120.365
run_nn_correlation0.2750.0120.287
run_pathway_gsva3.7550.3324.087
run_pathway_mean1.4000.0961.496
run_pathway_prop3.9410.1284.068
run_proportion_logit0.1960.0160.211
run_proportion_ratio0.2400.0080.247
run_proportion_raw0.1980.0080.206
scFeatures0.6720.0560.728