Index of /checkResults/release/bioc-LATEST/sangeranalyseR/raw-results/nebbiolo1

[ICO]NameLast modifiedSizeDescription

[DIR]Parent Directory  -  
[TXT]buildsrc-out.txt17-Jul-2024 06:39 4.8K 
[   ]buildsrc-summary.dcf17-Jul-2024 06:39 438  
[TXT]checksrc-out.txt17-Jul-2024 06:39 13K 
[   ]checksrc-summary.dcf17-Jul-2024 06:39 448  
[TXT]install-out.txt17-Jul-2024 06:39 1.0K 
[   ]install-summary.dcf17-Jul-2024 06:39 273