Index of /checkResults/release/bioc-LATEST/sangeranalyseR/raw-results/merida1

[ICO]NameLast modifiedSizeDescription

[DIR]Parent Directory  -  
[TXT]buildbin-out.txt10-Jul-2024 06:42 1.2K 
[   ]buildbin-summary.dcf10-Jul-2024 06:42 572  
[TXT]buildsrc-out.txt10-Jul-2024 06:42 4.8K 
[   ]buildsrc-summary.dcf10-Jul-2024 06:42 448  
[TXT]checksrc-out.txt10-Jul-2024 06:42 13K 
[   ]checksrc-summary.dcf10-Jul-2024 06:42 478  
[TXT]install-out.txt10-Jul-2024 06:42 1.0K 
[   ]install-summary.dcf10-Jul-2024 06:42 283