Index of /checkResults/release/bioc-LATEST/sangeranalyseR/raw-results/kjohnson1

[ICO]NameLast modifiedSizeDescription

[DIR]Parent Directory  -  
[TXT]buildbin-out.txt13-Jul-2024 06:43 1.2K 
[   ]buildbin-summary.dcf13-Jul-2024 06:43 572  
[TXT]buildsrc-out.txt13-Jul-2024 06:43 4.8K 
[   ]buildsrc-summary.dcf13-Jul-2024 06:43 448  
[TXT]checksrc-out.txt13-Jul-2024 06:43 13K 
[   ]checksrc-summary.dcf13-Jul-2024 06:43 478  
[TXT]install-out.txt13-Jul-2024 06:43 1.0K 
[   ]install-summary.dcf13-Jul-2024 06:43 283