Back to Multiple platform build/check report for BioC 3.13
ABCDEFGHIJKLMNOPQ[R]STUVWXYZ

This page was generated on 2021-09-20 15:05:27 -0400 (Mon, 20 Sep 2021).

BUILD results for roar on tokay2

To the developers/maintainers of the roar package:
- Please allow up to 24 hours (and sometimes 48 hours) for your latest push to git@git.bioconductor.org:packages/roar.git to
reflect on this report. See How and When does the builder pull? When will my changes propagate? here for more information.
- Make sure to use the following settings in order to reproduce any error or warning you see on this page.

raw results

Package 1616/2041HostnameOS / ArchINSTALLBUILDCHECKBUILD BIN
roar 1.28.0  (landing page)
Elena Grassi
Snapshot Date: 2021-09-19 04:50:10 -0400 (Sun, 19 Sep 2021)
git_url: https://git.bioconductor.org/packages/roar
git_branch: RELEASE_3_13
git_last_commit: 34c7fa7
git_last_commit_date: 2021-05-19 12:02:13 -0400 (Wed, 19 May 2021)
nebbiolo1Linux (Ubuntu 20.04.2 LTS) / x86_64  OK    OK    OK  UNNEEDED, same version is already published
tokay2Windows Server 2012 R2 Standard / x64  OK    OK    OK    OK  UNNEEDED, same version is already published
machv2macOS 10.14.6 Mojave / x86_64  OK    OK    OK    OK  UNNEEDED, same version is already published

Summary

Package: roar
Version: 1.28.0
Command: chmod a+r roar -R && C:\Users\biocbuild\bbs-3.13-bioc\R\bin\R.exe CMD build --keep-empty-dirs --no-resave-data roar
StartedAt: 2021-09-19 17:03:22 -0400 (Sun, 19 Sep 2021)
EndedAt: 2021-09-19 17:05:44 -0400 (Sun, 19 Sep 2021)
EllapsedTime: 142.3 seconds
RetCode: 0
Status:   OK  
PackageFile: roar_1.28.0.tar.gz
PackageFileSize: 797.8 KiB

Command output

##############################################################################
##############################################################################
###
### Running command:
###
###   chmod a+r roar -R && C:\Users\biocbuild\bbs-3.13-bioc\R\bin\R.exe CMD build --keep-empty-dirs --no-resave-data roar
###
##############################################################################
##############################################################################


* checking for file 'roar/DESCRIPTION' ... OK
* preparing 'roar':
* checking DESCRIPTION meta-information ... OK
* installing the package to build vignettes
* creating vignettes ... OK
* checking for LF line-endings in source and make files and shell scripts
* checking for empty or unneeded directories
* building 'roar_1.28.0.tar.gz'