Back to Multiple platform build/check report for BioC 3.13
ABCDEFGHIJKLMNOPQ[R]STUVWXYZ

This page was generated on 2021-09-20 15:05:00 -0400 (Mon, 20 Sep 2021).

CHECK results for roar on nebbiolo1

To the developers/maintainers of the roar package:
- Please allow up to 24 hours (and sometimes 48 hours) for your latest push to git@git.bioconductor.org:packages/roar.git to
reflect on this report. See How and When does the builder pull? When will my changes propagate? here for more information.
- Make sure to use the following settings in order to reproduce any error or warning you see on this page.

raw results

Package 1616/2041HostnameOS / ArchINSTALLBUILDCHECKBUILD BIN
roar 1.28.0  (landing page)
Elena Grassi
Snapshot Date: 2021-09-19 04:50:10 -0400 (Sun, 19 Sep 2021)
git_url: https://git.bioconductor.org/packages/roar
git_branch: RELEASE_3_13
git_last_commit: 34c7fa7
git_last_commit_date: 2021-05-19 12:02:13 -0400 (Wed, 19 May 2021)
nebbiolo1Linux (Ubuntu 20.04.2 LTS) / x86_64  OK    OK    OK  UNNEEDED, same version is already published
tokay2Windows Server 2012 R2 Standard / x64  OK    OK    OK    OK  UNNEEDED, same version is already published
machv2macOS 10.14.6 Mojave / x86_64  OK    OK    OK    OK  UNNEEDED, same version is already published

Summary

Package: roar
Version: 1.28.0
Command: /home/biocbuild/bbs-3.13-bioc/R/bin/R CMD check --install=check:roar.install-out.txt --library=/home/biocbuild/bbs-3.13-bioc/R/library --no-vignettes --timings roar_1.28.0.tar.gz
StartedAt: 2021-09-19 11:20:19 -0400 (Sun, 19 Sep 2021)
EndedAt: 2021-09-19 11:23:46 -0400 (Sun, 19 Sep 2021)
EllapsedTime: 206.6 seconds
RetCode: 0
Status:   OK  
CheckDir: roar.Rcheck
Warnings: 0

Command output

##############################################################################
##############################################################################
###
### Running command:
###
###   /home/biocbuild/bbs-3.13-bioc/R/bin/R CMD check --install=check:roar.install-out.txt --library=/home/biocbuild/bbs-3.13-bioc/R/library --no-vignettes --timings roar_1.28.0.tar.gz
###
##############################################################################
##############################################################################


* using log directory ‘/home/biocbuild/bbs-3.13-bioc/meat/roar.Rcheck’
* using R version 4.1.1 (2021-08-10)
* using platform: x86_64-pc-linux-gnu (64-bit)
* using session charset: UTF-8
* using option ‘--no-vignettes’
* checking for file ‘roar/DESCRIPTION’ ... OK
* checking extension type ... Package
* this is package ‘roar’ version ‘1.28.0’
* checking package namespace information ... OK
* checking package dependencies ... OK
* checking if this is a source package ... OK
* checking if there is a namespace ... OK
* checking for hidden files and directories ... OK
* checking for portable file names ... OK
* checking for sufficient/correct file permissions ... OK
* checking whether package ‘roar’ can be installed ... OK
* checking installed package size ... OK
* checking package directory ... OK
* checking ‘build’ directory ... OK
* checking DESCRIPTION meta-information ... OK
* checking top-level files ... OK
* checking for left-over files ... OK
* checking index information ... OK
* checking package subdirectories ... OK
* checking R files for non-ASCII characters ... OK
* checking R files for syntax errors ... OK
* checking whether the package can be loaded ... OK
* checking whether the package can be loaded with stated dependencies ... OK
* checking whether the package can be unloaded cleanly ... OK
* checking whether the namespace can be loaded with stated dependencies ... OK
* checking whether the namespace can be unloaded cleanly ... OK
* checking dependencies in R code ... OK
* checking S3 generic/method consistency ... OK
* checking replacement functions ... OK
* checking foreign function calls ... OK
* checking R code for possible problems ... OK
* checking Rd files ... OK
* checking Rd metadata ... OK
* checking Rd cross-references ... OK
* checking for missing documentation entries ... OK
* checking for code/documentation mismatches ... OK
* checking Rd \usage sections ... OK
* checking Rd contents ... OK
* checking for unstated dependencies in examples ... OK
* checking files in ‘vignettes’ ... OK
* checking examples ... OK
* checking for unstated dependencies in ‘tests’ ... OK
* checking tests ...
  Running ‘testthat.R’
 OK
* checking for unstated dependencies in vignettes ... OK
* checking package vignettes in ‘inst/doc’ ... OK
* checking running R code from vignettes ... SKIPPED
* checking re-building of vignette outputs ... SKIPPED
* checking PDF version of manual ... OK
* DONE

Status: OK


Installation output

roar.Rcheck/00install.out

##############################################################################
##############################################################################
###
### Running command:
###
###   /home/biocbuild/bbs-3.13-bioc/R/bin/R CMD INSTALL roar
###
##############################################################################
##############################################################################


* installing to library ‘/home/biocbuild/bbs-3.13-bioc/R/library’
* installing *source* package ‘roar’ ...
** using staged installation
** R
** inst
** byte-compile and prepare package for lazy loading
** help
*** installing help indices
** building package indices
** installing vignettes
** testing if installed package can be loaded from temporary location
** testing if installed package can be loaded from final location
** testing if installed package keeps a record of temporary installation path
* DONE (roar)

Tests output

roar.Rcheck/tests/testthat.Rout


R version 4.1.1 (2021-08-10) -- "Kick Things"
Copyright (C) 2021 The R Foundation for Statistical Computing
Platform: x86_64-pc-linux-gnu (64-bit)

R is free software and comes with ABSOLUTELY NO WARRANTY.
You are welcome to redistribute it under certain conditions.
Type 'license()' or 'licence()' for distribution details.

R is a collaborative project with many contributors.
Type 'contributors()' for more information and
'citation()' on how to cite R or R packages in publications.

Type 'demo()' for some demos, 'help()' for on-line help, or
'help.start()' for an HTML browser interface to help.
Type 'q()' to quit R.

> library(testthat)
> library(roar)
> 
> test_check("roar")
[ FAIL 0 | WARN 0 | SKIP 0 | PASS 137 ]
> 
> proc.time()
   user  system elapsed 
 32.333   0.725  33.047 

Example timings

roar.Rcheck/roar-Ex.timings

nameusersystemelapsed
RoarDataset-class0.0010.0030.003
RoarDataset-constructor0.3290.0360.365
RoarDatasetFromFiles-constructor000
RoarDatasetMultipleAPA-class0.0010.0000.001
RoarDatasetMultipleAPA-constructor0.4140.0120.427
RoarDatasetMultipleAPAFromFiles-constructor000
computePairedPvals-method1.6000.0721.672
computePvals-method0.9730.0040.977
computeRoars-method0.8600.0080.868
countPrePost-method0.8500.0080.858
countResults-method0.9660.0120.978
fpkmResults-method0.9730.0040.977
pvalueCorrectFilter-method0.9550.0080.963
pvalueFilter-method0.9990.0081.008
standardFilter-method0.9450.0000.945
totalResults-method0.9810.0080.990