Index of /checkResults/release/bioc-LATEST/rfPred/raw-results/nebbiolo1

[ICO]NameLast modifiedSizeDescription

[DIR]Parent Directory  -  
[TXT]buildsrc-out.txt20-Jul-2024 06:38 895  
[   ]buildsrc-summary.dcf20-Jul-2024 06:38 414  
[TXT]checksrc-out.txt20-Jul-2024 06:38 3.4K 
[   ]checksrc-summary.dcf20-Jul-2024 06:38 409  
[TXT]install-out.txt20-Jul-2024 06:38 1.4K 
[   ]install-summary.dcf20-Jul-2024 06:38 257