Index of /checkResults/release/bioc-LATEST/rfPred/raw-results/merida1

[ICO]NameLast modifiedSizeDescription

[DIR]Parent Directory  -  
[TXT]buildbin-out.txt20-Jul-2024 06:40 3.5K 
[   ]buildbin-summary.dcf20-Jul-2024 06:40 524  
[TXT]buildsrc-out.txt20-Jul-2024 06:40 905  
[   ]buildsrc-summary.dcf20-Jul-2024 06:40 424  
[TXT]checksrc-out.txt20-Jul-2024 06:40 3.6K 
[   ]checksrc-summary.dcf20-Jul-2024 06:40 440  
[TXT]install-out.txt20-Jul-2024 06:40 1.7K 
[   ]install-summary.dcf20-Jul-2024 06:40 267