Back to Multiple platform build/check report for BioC 3.19:   simplified   long
ABCDEFGHIJKLMNOPQ[R]STUVWXYZ

This page was generated on 2024-06-18 17:59 -0400 (Tue, 18 Jun 2024).

HostnameOSArch (*)R versionInstalled pkgs
nebbiolo1Linux (Ubuntu 22.04.3 LTS)x86_644.4.0 (2024-04-24) -- "Puppy Cup" 4758
palomino3Windows Server 2022 Datacenterx644.4.0 (2024-04-24 ucrt) -- "Puppy Cup" 4492
merida1macOS 12.7.4 Montereyx86_644.4.0 (2024-04-24) -- "Puppy Cup" 4464
kjohnson1macOS 13.6.6 Venturaarm644.4.0 (2024-04-24) -- "Puppy Cup" 4464
Click on any hostname to see more info about the system (e.g. compilers)      (*) as reported by 'uname -p', except on Windows and Mac OS X

Package 1687/2300HostnameOS / ArchINSTALLBUILDCHECKBUILD BIN
rBiopaxParser 2.44.0  (landing page)
Frank Kramer
Snapshot Date: 2024-06-16 14:00 -0400 (Sun, 16 Jun 2024)
git_url: https://git.bioconductor.org/packages/rBiopaxParser
git_branch: RELEASE_3_19
git_last_commit: a5f21bf
git_last_commit_date: 2024-04-30 10:30:28 -0400 (Tue, 30 Apr 2024)
nebbiolo1Linux (Ubuntu 22.04.3 LTS) / x86_64  OK    OK    OK  UNNEEDED, same version is already published
palomino3Windows Server 2022 Datacenter / x64  OK    OK    OK    OK  UNNEEDED, same version is already published
merida1macOS 12.7.4 Monterey / x86_64  OK    OK    OK    OK  UNNEEDED, same version is already published
kjohnson1macOS 13.6.6 Ventura / arm64  OK    OK    OK    OK  UNNEEDED, same version is already published


CHECK results for rBiopaxParser on palomino3

To the developers/maintainers of the rBiopaxParser package:
- Allow up to 24 hours (and sometimes 48 hours) for your latest push to git@git.bioconductor.org:packages/rBiopaxParser.git to reflect on this report. See Troubleshooting Build Report for more information.
- Use the following Renviron settings to reproduce errors and warnings.
- If 'R CMD check' started to fail recently on the Linux builder(s) over a missing dependency, add the missing dependency to 'Suggests:' in your DESCRIPTION file. See Renviron.bioc for more information.

raw results


Summary

Package: rBiopaxParser
Version: 2.44.0
Command: F:\biocbuild\bbs-3.19-bioc\R\bin\R.exe CMD check --no-multiarch --install=check:rBiopaxParser.install-out.txt --library=F:\biocbuild\bbs-3.19-bioc\R\library --no-vignettes --timings rBiopaxParser_2.44.0.tar.gz
StartedAt: 2024-06-17 09:44:48 -0400 (Mon, 17 Jun 2024)
EndedAt: 2024-06-17 09:48:46 -0400 (Mon, 17 Jun 2024)
EllapsedTime: 238.0 seconds
RetCode: 0
Status:   OK  
CheckDir: rBiopaxParser.Rcheck
Warnings: 0

Command output

##############################################################################
##############################################################################
###
### Running command:
###
###   F:\biocbuild\bbs-3.19-bioc\R\bin\R.exe CMD check --no-multiarch --install=check:rBiopaxParser.install-out.txt --library=F:\biocbuild\bbs-3.19-bioc\R\library --no-vignettes --timings rBiopaxParser_2.44.0.tar.gz
###
##############################################################################
##############################################################################


* using log directory 'F:/biocbuild/bbs-3.19-bioc/meat/rBiopaxParser.Rcheck'
* using R version 4.4.0 (2024-04-24 ucrt)
* using platform: x86_64-w64-mingw32
* R was compiled by
    gcc.exe (GCC) 13.2.0
    GNU Fortran (GCC) 13.2.0
* running under: Windows Server 2022 x64 (build 20348)
* using session charset: UTF-8
* using option '--no-vignettes'
* checking for file 'rBiopaxParser/DESCRIPTION' ... OK
* checking extension type ... Package
* this is package 'rBiopaxParser' version '2.44.0'
* checking package namespace information ... OK
* checking package dependencies ... OK
* checking if this is a source package ... OK
* checking if there is a namespace ... OK
* checking for hidden files and directories ... OK
* checking for portable file names ... OK
* checking whether package 'rBiopaxParser' can be installed ... OK
* checking installed package size ... OK
* checking package directory ... OK
* checking 'build' directory ... OK
* checking DESCRIPTION meta-information ... OK
* checking top-level files ... OK
* checking for left-over files ... OK
* checking index information ... OK
* checking package subdirectories ... OK
* checking code files for non-ASCII characters ... OK
* checking R files for syntax errors ... OK
* checking whether the package can be loaded ... OK
* checking whether the package can be loaded with stated dependencies ... OK
* checking whether the package can be unloaded cleanly ... OK
* checking whether the namespace can be loaded with stated dependencies ... OK
* checking whether the namespace can be unloaded cleanly ... OK
* checking dependencies in R code ... NOTE
'library' or 'require' calls in package code:
  'RBGL' 'RCurl' 'Rgraphviz' 'graph' 'igraph'
  Please use :: or requireNamespace() instead.
  See section 'Suggested packages' in the 'Writing R Extensions' manual.
* checking S3 generic/method consistency ... OK
* checking replacement functions ... OK
* checking foreign function calls ... OK
* checking R code for possible problems ... NOTE
addBiopaxInstance: no visible binding for global variable 'property'
addBiopaxInstances: no visible binding for global variable 'id'
addBiopaxInstances: no visible binding for global variable 'property'
addPropertiesToBiopaxInstance: no visible binding for global variable
  'property'
colorGraphNodes: no visible global function definition for 'hcl'
createBiopax: no visible binding for global variable 'id'
createBiopax: no visible binding for global variable 'property'
getReferencedIDs: no visible binding for global variable
  'property_attr'
getReferencedIDs: no visible binding for global variable 'property'
getReferencingIDs: no visible binding for global variable
  'property_attr'
getReferencingIDs: no visible binding for global variable 'property'
internal_XMLInstance2DF: no visible binding for global variable 'i'
internal_XMLInstance2DF: no visible binding for global variable 'p'
internal_generateXMLfromBiopax: no visible binding for global variable
  'id'
internal_getBiopaxModelAsDataFrame: no visible binding for global
  variable 'property'
internal_propertyListToDF: no visible binding for global variable
  'property'
layoutRegulatoryGraph: no visible global function definition for
  'nodes'
listInstances: no visible binding for global variable 'property_value'
listInstances: no visible binding for global variable 'property'
pathway2AdjacancyMatrix: no visible global function definition for 'as'
pathway2Graph: no visible global function definition for 'new'
pathway2Graph: no visible global function definition for 'getClassDef'
pathway2Graph: no visible binding for global variable 'id'
pathway2Graph: no visible binding for global variable 'property'
pathway2RegulatoryGraph: no visible global function definition for
  'new'
pathway2RegulatoryGraph: no visible global function definition for
  'getClassDef'
pathway2RegulatoryGraph: no visible binding for global variable 'id'
pathway2RegulatoryGraph: no visible binding for global variable
  'property'
plotRegulatoryGraph: no visible global function definition for 'nodes'
removeDisconnectedParts: no visible global function definition for
  'removeNode'
removeNodes: no visible global function definition for 'edgeWeights'
removeNodes: no visible global function definition for 'na.omit'
removeNodes: no visible global function definition for 'removeNode'
removeNodes: no visible global function definition for 'addEdge'
removeProperties: no visible binding for global variable 'property'
selectInstances: no visible binding for global variable
  'property_value'
Undefined global functions or variables:
  addEdge as edgeWeights getClassDef hcl i id na.omit new nodes p
  property property_attr property_value removeNode
Consider adding
  importFrom("grDevices", "hcl")
  importFrom("methods", "as", "getClassDef", "new")
  importFrom("stats", "na.omit")
to your NAMESPACE file (and ensure that your DESCRIPTION Imports field
contains 'methods').
* checking Rd files ... OK
* checking Rd metadata ... OK
* checking Rd cross-references ... OK
* checking for missing documentation entries ... OK
* checking for code/documentation mismatches ... OK
* checking Rd \usage sections ... OK
* checking Rd contents ... OK
* checking for unstated dependencies in examples ... OK
* checking contents of 'data' directory ... OK
* checking data for non-ASCII characters ... NOTE
  Note: found 1 marked UTF-8 string
* checking data for ASCII and uncompressed saves ... OK
* checking sizes of PDF files under 'inst/doc' ... OK
* checking files in 'vignettes' ... OK
* checking examples ... OK
* checking for unstated dependencies in 'tests' ... OK
* checking tests ...
  Running 'runTests.R'
 OK
* checking for unstated dependencies in vignettes ... OK
* checking package vignettes ... OK
* checking running R code from vignettes ... SKIPPED
* checking re-building of vignette outputs ... SKIPPED
* checking PDF version of manual ... OK
* DONE

Status: 3 NOTEs
See
  'F:/biocbuild/bbs-3.19-bioc/meat/rBiopaxParser.Rcheck/00check.log'
for details.


Installation output

rBiopaxParser.Rcheck/00install.out

##############################################################################
##############################################################################
###
### Running command:
###
###   F:\biocbuild\bbs-3.19-bioc\R\bin\R.exe CMD INSTALL rBiopaxParser
###
##############################################################################
##############################################################################


* installing to library 'F:/biocbuild/bbs-3.19-bioc/R/library'
* installing *source* package 'rBiopaxParser' ...
** using staged installation
** R
** data
** inst
** byte-compile and prepare package for lazy loading
** help
*** installing help indices
** building package indices
** installing vignettes
** testing if installed package can be loaded from temporary location
** testing if installed package can be loaded from final location
** testing if installed package keeps a record of temporary installation path
* DONE (rBiopaxParser)

Tests output

rBiopaxParser.Rcheck/tests/runTests.Rout


R version 4.4.0 (2024-04-24 ucrt) -- "Puppy Cup"
Copyright (C) 2024 The R Foundation for Statistical Computing
Platform: x86_64-w64-mingw32/x64

R is free software and comes with ABSOLUTELY NO WARRANTY.
You are welcome to redistribute it under certain conditions.
Type 'license()' or 'licence()' for distribution details.

R is a collaborative project with many contributors.
Type 'contributors()' for more information and
'citation()' on how to cite R or R packages in publications.

Type 'demo()' for some demos, 'help()' for on-line help, or
'help.start()' for an HTML browser interface to help.
Type 'q()' to quit R.

> BiocGenerics:::testPackage("rBiopaxParser")


RUNIT TEST PROTOCOL -- Mon Jun 17 09:48:23 2024 
*********************************************** 
Number of test functions: 12 
Number of errors: 0 
Number of failures: 0 

 
1 Test Suite : 
rBiopaxParser RUnit Tests - 12 test functions, 0 errors, 0 failures
Number of test functions: 12 
Number of errors: 0 
Number of failures: 0 
> 
> proc.time()
   user  system elapsed 
   0.31    3.31    3.76 

Example timings

rBiopaxParser.Rcheck/rBiopaxParser-Ex.timings

nameusersystemelapsed
addBiochemicalReaction0.050.410.47
addBiopaxInstance000
addBiopaxInstances0.030.000.03
addControl0.050.000.05
addPathway0.030.000.03
addPathwayComponents0.040.000.05
addPhysicalEntity0.020.000.01
addPhysicalEntityParticipant0.030.000.04
addPropertiesToBiopaxInstance0.020.000.01
biopax0.030.000.03
calcGraphOverlap2.250.713.13
colorGraphNodes1.390.752.22
combineNodes0.000.010.01
createBiopax000
diffGraphs2.040.612.75
downloadBiopaxData000
getClassProperties000
getInstanceClass0.000.000.02
getInstanceProperty0.020.000.01
getReferencedIDs0.030.000.03
getReferencingIDs0.020.020.04
getSubClasses000
getSuperClasses000
getXrefAnnotations0.180.000.19
hasProperty000
intersectGraphs2.290.593.11
isOfClass0.000.020.02
layoutRegulatoryGraph1.510.592.27
listComplexComponents0.020.000.02
listInstances0.030.000.03
listInteractionComponents0.030.000.03
listPathwayComponents0.030.000.03
listPathways0.000.010.02
pathway2AdjacancyMatrix1.270.431.76
pathway2Geneset0.610.010.63
pathway2Graph1.151.753.03
pathway2RegulatoryGraph1.250.693.11
plotRegulatoryGraph1.380.581.97
print.biopax000
rBiopaxParser-package000
readBiopax0.020.000.02
removeInstance0.000.010.01
removeNodes1.330.602.08
removeProperties0.010.000.02
selectInstances0.030.000.03
splitComplex0.030.000.03
transitiveClosure1.220.471.75
transitiveReduction1.050.401.50
uniteGraphs2.190.642.95
writeBiopax0.000.000.02