Back to Multiple platform build/check report for BioC 3.12
ABCDEFGHIJKLMNOP[Q]RSTUVWXYZ

Multiple platform build/check report for BioC 3.12

All results for package qcmetrics

This page was generated on 2021-05-05 12:09:08 -0400 (Wed, 05 May 2021).

Package 1422/1974HostnameOS / ArchINSTALLBUILDCHECKBUILD BIN
qcmetrics 1.28.0  (landing page)
Laurent Gatto
Snapshot Date: 2021-05-04 14:50:13 -0400 (Tue, 04 May 2021)
URL: https://git.bioconductor.org/packages/qcmetrics
Branch: RELEASE_3_12
Last Commit: 4b2848c
Last Changed Date: 2020-10-27 10:53:35 -0400 (Tue, 27 Oct 2020)
malbec1Linux (Ubuntu 18.04.5 LTS) / x86_64  OK    OK    OK  UNNEEDED, same version exists in internal repository
tokay1Windows Server 2012 R2 Standard / x64  OK    OK    OK    OK  UNNEEDED, same version exists in internal repository
merida1macOS 10.14.6 Mojave / x86_64  OK    OK    OK    OK  UNNEEDED, same version exists in internal repository

Results for Bioconductor software packages that depend directly on package qcmetrics

QUICK STATSOS / ArchINSTALLBUILDCHECKBUILD BIN
malbec1Linux (Ubuntu 18.04.5 LTS) / x86_64
001
001
0001
tokay1Windows Server 2012 R2 Standard / x64
001
001
0001
001
merida1macOS 10.14.6 Mojave / x86_64
001
001
0001
001
Package 1/1HostnameOS / ArchINSTALLBUILDCHECKBUILD BIN
MSstatsQC 2.8.0  (landing page)
Eralp Dogu
Last Commit: 3a5ce77
Last Changed Date: 2020-10-27 11:27:57 -0400
malbec1Linux (Ubuntu 18.04.5 LTS) / x86_64  OK    OK    OK  UNNEEDED, same version exists in internal repository
tokay1Windows Server 2012 R2 Standard / x64  OK    OK    OK    OK  UNNEEDED, same version exists in internal repository
merida1macOS 10.14.6 Mojave / x86_64  OK    OK    OK    OK  UNNEEDED, same version exists in internal repository