Back to Multiple platform build/check report for BioC 3.13
ABCDEFGHIJKLMNO[P]QRSTUVWXYZ

This page was generated on 2021-08-02 15:05:54 -0400 (Mon, 02 Aug 2021).

INSTALL results for pwOmics on machv2

To the developers/maintainers of the pwOmics package:
- Please allow up to 24 hours (and sometimes 48 hours) for your latest push to git@git.bioconductor.org:packages/pwOmics.git to
reflect on this report. See How and When does the builder pull? When will my changes propagate? here for more information.
- Make sure to use the following settings in order to reproduce any error or warning you see on this page.

raw results

Package 1466/2041HostnameOS / ArchINSTALLBUILDCHECKBUILD BIN
pwOmics 1.24.0  (landing page)
Maren Sitte
Snapshot Date: 2021-08-01 04:50:10 -0400 (Sun, 01 Aug 2021)
URL: https://git.bioconductor.org/packages/pwOmics
Branch: RELEASE_3_13
Last Commit: 9b1e369
Last Changed Date: 2021-05-19 12:13:37 -0400 (Wed, 19 May 2021)
nebbiolo1Linux (Ubuntu 20.04.2 LTS) / x86_64  OK    OK    WARNINGS  UNNEEDED, same version is already published
tokay2Windows Server 2012 R2 Standard / x64  OK    OK    WARNINGS    OK  UNNEEDED, same version is already published
machv2macOS 10.14.6 Mojave / x86_64  OK    OK    WARNINGS    OK  UNNEEDED, same version is already published

Summary

Package: pwOmics
Version: 1.24.0
Command: /Library/Frameworks/R.framework/Versions/Current/Resources/bin/R CMD INSTALL pwOmics
StartedAt: 2021-08-01 08:52:58 -0400 (Sun, 01 Aug 2021)
EndedAt: 2021-08-01 08:53:44 -0400 (Sun, 01 Aug 2021)
EllapsedTime: 46.4 seconds
RetCode: 0
Status:   OK  

Command output

##############################################################################
##############################################################################
###
### Running command:
###
###   /Library/Frameworks/R.framework/Versions/Current/Resources/bin/R CMD INSTALL pwOmics
###
##############################################################################
##############################################################################


* installing to library ‘/Library/Frameworks/R.framework/Versions/4.1/Resources/library’
* installing *source* package ‘pwOmics’ ...
** using staged installation
** R
** data
** inst
** byte-compile and prepare package for lazy loading
** help
*** installing help indices
** building package indices
** testing if installed package can be loaded from temporary location
** testing if installed package can be loaded from final location
** testing if installed package keeps a record of temporary installation path
* DONE (pwOmics)